
BEGIN:VCALENDAR
VERSION:2.0
PRODID:-//CHEA West Central District - ECPv6.2.0//NONSGML v1.0//EN
CALSCALE:GREGORIAN
METHOD:PUBLISH
X-WR-CALNAME:CHEA West Central District
X-ORIGINAL-URL:https://cheawcd.org/newsite
X-WR-CALDESC:Events for CHEA West Central District
REFRESH-INTERVAL;VALUE=DURATION:PT1H
X-Robots-Tag:noindex
X-PUBLISHED-TTL:PT1H
BEGIN:VTIMEZONE
TZID:America/Denver
BEGIN:DAYLIGHT
TZOFFSETFROM:-0700
TZOFFSETTO:-0600
TZNAME:MDT
DTSTART:20210314T090000
END:DAYLIGHT
BEGIN:STANDARD
TZOFFSETFROM:-0600
TZOFFSETTO:-0700
TZNAME:MST
DTSTART:20211107T080000
END:STANDARD
END:VTIMEZONE
BEGIN:VEVENT
DTSTART;TZID=America/Denver:20210821T173000
DTEND;TZID=America/Denver:20210821T190000
DTSTAMP:20260423T022931
CREATED:20210403T195904Z
LAST-MODIFIED:20210403T195904Z
UID:631-1629567000-1629572400@cheawcd.org
SUMMARY:AVP Homecoming - Santa Cruz
DESCRIPTION:
URL:https://cheawcd.org/newsite/index.php/event/avp-homecoming-santa-cruz/
END:VEVENT
END:VCALENDAR