
BEGIN:VCALENDAR
VERSION:2.0
PRODID:-//CHEA West Central District - ECPv6.2.0//NONSGML v1.0//EN
CALSCALE:GREGORIAN
METHOD:PUBLISH
X-WR-CALNAME:CHEA West Central District
X-ORIGINAL-URL:https://cheawcd.org/newsite
X-WR-CALDESC:Events for CHEA West Central District
REFRESH-INTERVAL;VALUE=DURATION:PT1H
X-Robots-Tag:noindex
X-PUBLISHED-TTL:PT1H
BEGIN:VTIMEZONE
TZID:America/Denver
BEGIN:DAYLIGHT
TZOFFSETFROM:-0700
TZOFFSETTO:-0600
TZNAME:MDT
DTSTART:20220313T090000
END:DAYLIGHT
BEGIN:STANDARD
TZOFFSETFROM:-0600
TZOFFSETTO:-0700
TZNAME:MST
DTSTART:20221106T080000
END:STANDARD
END:VTIMEZONE
BEGIN:VEVENT
DTSTART;TZID=America/Denver:20220327T103000
DTEND;TZID=America/Denver:20220327T113000
DTSTAMP:20260422T130921
CREATED:20220317T173518Z
LAST-MODIFIED:20220317T173518Z
UID:782-1648377000-1648380600@cheawcd.org
SUMMARY:Installation of Officers: Watsonville (at Hollister Lodge)
DESCRIPTION:
URL:https://cheawcd.org/newsite/index.php/event/installation-of-officers-watsonville-at-hollister-lodge/
END:VEVENT
BEGIN:VEVENT
DTSTART;TZID=America/Denver:20220327T110000
DTEND;TZID=America/Denver:20220327T140000
DTSTAMP:20260422T130921
CREATED:20220214T192033Z
LAST-MODIFIED:20220214T192033Z
UID:767-1648378800-1648389600@cheawcd.org
SUMMARY:Installation of Officers: Hollister
DESCRIPTION:
URL:https://cheawcd.org/newsite/index.php/event/installation-of-officers-hollister/
END:VEVENT
END:VCALENDAR