
BEGIN:VCALENDAR
VERSION:2.0
PRODID:-//CHEA West Central District - ECPv6.2.0//NONSGML v1.0//EN
CALSCALE:GREGORIAN
METHOD:PUBLISH
X-WR-CALNAME:CHEA West Central District
X-ORIGINAL-URL:https://cheawcd.org/newsite
X-WR-CALDESC:Events for CHEA West Central District
REFRESH-INTERVAL;VALUE=DURATION:PT1H
X-Robots-Tag:noindex
X-PUBLISHED-TTL:PT1H
BEGIN:VTIMEZONE
TZID:America/Denver
BEGIN:DAYLIGHT
TZOFFSETFROM:-0700
TZOFFSETTO:-0600
TZNAME:MDT
DTSTART:20240310T090000
END:DAYLIGHT
BEGIN:STANDARD
TZOFFSETFROM:-0600
TZOFFSETTO:-0700
TZNAME:MST
DTSTART:20241103T080000
END:STANDARD
END:VTIMEZONE
BEGIN:VEVENT
DTSTART;TZID=America/Denver:20240330T100000
DTEND;TZID=America/Denver:20240330T130000
DTSTAMP:20260420T223550
CREATED:20240213T214002Z
LAST-MODIFIED:20240213T214002Z
UID:1122-1711792800-1711803600@cheawcd.org
SUMMARY:Installation of Officers: Monterey
DESCRIPTION:
URL:https://cheawcd.org/newsite/index.php/event/installation-of-officers-monterey/
END:VEVENT
BEGIN:VEVENT
DTSTART;TZID=America/Denver:20240330T143000
DTEND;TZID=America/Denver:20240330T170000
DTSTAMP:20260420T223550
CREATED:20240213T214032Z
LAST-MODIFIED:20240213T214032Z
UID:1124-1711809000-1711818000@cheawcd.org
SUMMARY:Installation of Officers: Salinas
DESCRIPTION:
URL:https://cheawcd.org/newsite/index.php/event/installation-of-officers-salinas-2/
END:VEVENT
END:VCALENDAR