
BEGIN:VCALENDAR
VERSION:2.0
PRODID:-//CHEA West Central District - ECPv6.2.0//NONSGML v1.0//EN
CALSCALE:GREGORIAN
METHOD:PUBLISH
X-WR-CALNAME:CHEA West Central District
X-ORIGINAL-URL:https://cheawcd.org/newsite
X-WR-CALDESC:Events for CHEA West Central District
REFRESH-INTERVAL;VALUE=DURATION:PT1H
X-Robots-Tag:noindex
X-PUBLISHED-TTL:PT1H
BEGIN:VTIMEZONE
TZID:America/Denver
BEGIN:DAYLIGHT
TZOFFSETFROM:-0700
TZOFFSETTO:-0600
TZNAME:MDT
DTSTART:20250309T090000
END:DAYLIGHT
BEGIN:STANDARD
TZOFFSETFROM:-0600
TZOFFSETTO:-0700
TZNAME:MST
DTSTART:20251102T080000
END:STANDARD
END:VTIMEZONE
BEGIN:VEVENT
DTSTART;TZID=America/Denver:20250322T120000
DTEND;TZID=America/Denver:20250322T140000
DTSTAMP:20260420T035432
CREATED:20250121T185956Z
LAST-MODIFIED:20250220T225622Z
UID:1281-1742644800-1742652000@cheawcd.org
SUMMARY:Installation - Hollister
DESCRIPTION:
URL:https://cheawcd.org/newsite/index.php/event/installation-hollister-time-tbd/
END:VEVENT
END:VCALENDAR