
BEGIN:VCALENDAR
VERSION:2.0
PRODID:-//CHEA West Central District - ECPv6.2.0//NONSGML v1.0//EN
CALSCALE:GREGORIAN
METHOD:PUBLISH
X-ORIGINAL-URL:https://cheawcd.org/newsite
X-WR-CALDESC:Events for CHEA West Central District
REFRESH-INTERVAL;VALUE=DURATION:PT1H
X-Robots-Tag:noindex
X-PUBLISHED-TTL:PT1H
BEGIN:VTIMEZONE
TZID:America/Denver
BEGIN:DAYLIGHT
TZOFFSETFROM:-0700
TZOFFSETTO:-0600
TZNAME:MDT
DTSTART:20250309T090000
END:DAYLIGHT
BEGIN:STANDARD
TZOFFSETFROM:-0600
TZOFFSETTO:-0700
TZNAME:MST
DTSTART:20251102T080000
END:STANDARD
END:VTIMEZONE
BEGIN:VEVENT
DTSTART;TZID=America/Denver:20250426T113000
DTEND;TZID=America/Denver:20250426T190000
DTSTAMP:20260420T024456
CREATED:20250417T231039Z
LAST-MODIFIED:20250417T231138Z
UID:1387-1745667000-1745694000@cheawcd.org
SUMMARY:Ritual Contest - Santa Cruz Day 2
DESCRIPTION:11:30a – 11 o’clock toast and flag contest \n1:30p – Sunnyvale Ritual Contest \n3:30p – Palo Alto Ritual Contest \n6:00p – Awards Dinner $25: Light Appetizers\, Honey Ham\, Scalloped Potatoes\, Veggies\, Spring Salad\, Bread\, Dessert. Please call the Lodge to make dinner reservations: 831-423-8240
URL:https://cheawcd.org/newsite/index.php/event/ritual-contest-santa-cruz-day-2/
END:VEVENT
END:VCALENDAR