
BEGIN:VCALENDAR
VERSION:2.0
PRODID:-//CHEA West Central District - ECPv6.2.0//NONSGML v1.0//EN
CALSCALE:GREGORIAN
METHOD:PUBLISH
X-WR-CALNAME:CHEA West Central District
X-ORIGINAL-URL:https://cheawcd.org/newsite
X-WR-CALDESC:Events for CHEA West Central District
REFRESH-INTERVAL;VALUE=DURATION:PT1H
X-Robots-Tag:noindex
X-PUBLISHED-TTL:PT1H
BEGIN:VTIMEZONE
TZID:America/Denver
BEGIN:DAYLIGHT
TZOFFSETFROM:-0700
TZOFFSETTO:-0600
TZNAME:MDT
DTSTART:20230312T090000
END:DAYLIGHT
BEGIN:STANDARD
TZOFFSETFROM:-0600
TZOFFSETTO:-0700
TZNAME:MST
DTSTART:20231105T080000
END:STANDARD
BEGIN:DAYLIGHT
TZOFFSETFROM:-0700
TZOFFSETTO:-0600
TZNAME:MDT
DTSTART:20240310T090000
END:DAYLIGHT
BEGIN:STANDARD
TZOFFSETFROM:-0600
TZOFFSETTO:-0700
TZNAME:MST
DTSTART:20241103T080000
END:STANDARD
END:VTIMEZONE
BEGIN:VEVENT
DTSTART;TZID=America/Denver:20240316T100000
DTEND;TZID=America/Denver:20240316T130000
DTSTAMP:20260420T040007
CREATED:20240213T213824Z
LAST-MODIFIED:20240213T213824Z
UID:1114-1710583200-1710594000@cheawcd.org
SUMMARY:Installation of Officers: Hollister
DESCRIPTION:
URL:https://cheawcd.org/newsite/index.php/event/installation-of-officers-hollister-2/
END:VEVENT
BEGIN:VEVENT
DTSTART;VALUE=DATE:20240301
DTEND;VALUE=DATE:20240304
DTSTAMP:20260420T040007
CREATED:20240114T202937Z
LAST-MODIFIED:20240114T202937Z
UID:1096-1709251200-1709510399@cheawcd.org
SUMMARY:State President's Homecoming in Torance
DESCRIPTION:
URL:https://cheawcd.org/newsite/index.php/event/state-presidents-homecoming-in-torance/
END:VEVENT
BEGIN:VEVENT
DTSTART;VALUE=DATE:20240210
DTEND;VALUE=DATE:20240211
DTSTAMP:20260420T040007
CREATED:20240114T202900Z
LAST-MODIFIED:20240114T202900Z
UID:1094-1707523200-1707609599@cheawcd.org
SUMMARY:Ritual Clinic @ Santa Cruz
DESCRIPTION:
URL:https://cheawcd.org/newsite/index.php/event/ritual-clinic-santa-cruz/
END:VEVENT
BEGIN:VEVENT
DTSTART;VALUE=DATE:20240127
DTEND;VALUE=DATE:20240128
DTSTAMP:20260420T040007
CREATED:20240114T202833Z
LAST-MODIFIED:20240114T202833Z
UID:1092-1706313600-1706399999@cheawcd.org
SUMMARY:Tri-District Ritual Qualification Clinic @ Palo Alto
DESCRIPTION:
URL:https://cheawcd.org/newsite/index.php/event/tri-district-ritual-qualification-clinic-palo-alto/
END:VEVENT
BEGIN:VEVENT
DTSTART;TZID=America/Denver:20240120T090000
DTEND;TZID=America/Denver:20240120T120000
DTSTAMP:20260420T040007
CREATED:20230220T213739Z
LAST-MODIFIED:20240114T203439Z
UID:1041-1705741200-1705752000@cheawcd.org
SUMMARY:DD Clinic - San Jose @ Sunnyvale
DESCRIPTION:
URL:https://cheawcd.org/newsite/index.php/event/dd-clinic-san-jose/
END:VEVENT
BEGIN:VEVENT
DTSTART;TZID=America/Denver:20240113T090000
DTEND;TZID=America/Denver:20240113T110000
DTSTAMP:20260420T040007
CREATED:20240114T202734Z
LAST-MODIFIED:20240114T202742Z
UID:1089-1705136400-1705143600@cheawcd.org
SUMMARY:January Caucus @ Gilroy
DESCRIPTION:
URL:https://cheawcd.org/newsite/index.php/event/january-caucus/
END:VEVENT
BEGIN:VEVENT
DTSTART;VALUE=DATE:20231110
DTEND;VALUE=DATE:20231113
DTSTAMP:20260420T040007
CREATED:20230211T002130Z
LAST-MODIFIED:20230211T002130Z
UID:1004-1699574400-1699833599@cheawcd.org
SUMMARY:Association President's WCD Visitation
DESCRIPTION:
URL:https://cheawcd.org/newsite/index.php/event/association-presidents-wcd-visitation/
END:VEVENT
BEGIN:VEVENT
DTSTART;VALUE=DATE:20231103
DTEND;VALUE=DATE:20231105
DTSTAMP:20260420T040007
CREATED:20220601T192209Z
LAST-MODIFIED:20220601T192209Z
UID:891-1698969600-1699142399@cheawcd.org
SUMMARY:Mid-Term - Riverside
DESCRIPTION:
URL:https://cheawcd.org/newsite/index.php/event/mid-term-riverside/
END:VEVENT
BEGIN:VEVENT
DTSTART;TZID=America/Denver:20231028T170000
DTEND;TZID=America/Denver:20231028T200000
DTSTAMP:20260420T040007
CREATED:20230220T213430Z
LAST-MODIFIED:20230220T213430Z
UID:1033-1698512400-1698523200@cheawcd.org
SUMMARY:DD Homecoming - Santa Cruz
DESCRIPTION:
URL:https://cheawcd.org/newsite/index.php/event/dd-homecoming-santa-cruz/
END:VEVENT
BEGIN:VEVENT
DTSTART;TZID=America/Denver:20231025T170000
DTEND;TZID=America/Denver:20231025T200000
DTSTAMP:20260420T040007
CREATED:20230220T213406Z
LAST-MODIFIED:20230220T213406Z
UID:1031-1698253200-1698264000@cheawcd.org
SUMMARY:DD Visit - Watsonville
DESCRIPTION:
URL:https://cheawcd.org/newsite/index.php/event/dd-visit-watsonville-4/
END:VEVENT
BEGIN:VEVENT
DTSTART;TZID=America/Denver:20231021T090000
DTEND;TZID=America/Denver:20231021T120000
DTSTAMP:20260420T040007
CREATED:20230220T213711Z
LAST-MODIFIED:20230220T213711Z
UID:1039-1697878800-1697889600@cheawcd.org
SUMMARY:DD Clinic - Santa Cruz (Leading Knights & Trustees)
DESCRIPTION:
URL:https://cheawcd.org/newsite/index.php/event/dd-clinic-santa-cruz-leading-knights-trustees/
END:VEVENT
BEGIN:VEVENT
DTSTART;TZID=America/Denver:20231019T170000
DTEND;TZID=America/Denver:20231019T200000
DTSTAMP:20260420T040007
CREATED:20230220T213339Z
LAST-MODIFIED:20230220T213339Z
UID:1029-1697734800-1697745600@cheawcd.org
SUMMARY:DD Visit - Santa Cruz
DESCRIPTION:
URL:https://cheawcd.org/newsite/index.php/event/dd-visit-santa-cruz-6/
END:VEVENT
BEGIN:VEVENT
DTSTART;TZID=America/Denver:20231018T170000
DTEND;TZID=America/Denver:20231018T200000
DTSTAMP:20260420T040007
CREATED:20230220T212846Z
LAST-MODIFIED:20230707T173151Z
UID:1013-1697648400-1697659200@cheawcd.org
SUMMARY:DD Visitation - Sunnyvale
DESCRIPTION:
URL:https://cheawcd.org/newsite/index.php/event/dd-visitation-sunnyvale/
END:VEVENT
BEGIN:VEVENT
DTSTART;TZID=America/Denver:20231011T170000
DTEND;TZID=America/Denver:20231011T200000
DTSTAMP:20260420T040007
CREATED:20230220T213309Z
LAST-MODIFIED:20230220T213309Z
UID:1027-1697043600-1697054400@cheawcd.org
SUMMARY:DD Visit - Gilroy
DESCRIPTION:
URL:https://cheawcd.org/newsite/index.php/event/dd-visit-gilroy-4/
END:VEVENT
BEGIN:VEVENT
DTSTART;TZID=America/Denver:20231004T170000
DTEND;TZID=America/Denver:20231004T200000
DTSTAMP:20260420T040007
CREATED:20230220T213232Z
LAST-MODIFIED:20230220T213232Z
UID:1025-1696438800-1696449600@cheawcd.org
SUMMARY:DD Visit - San Jose @ Sunnyvale
DESCRIPTION:
URL:https://cheawcd.org/newsite/index.php/event/dd-visit-san-jose-sunnyvale/
END:VEVENT
BEGIN:VEVENT
DTSTART;TZID=America/Denver:20230927T170000
DTEND;TZID=America/Denver:20230927T200000
DTSTAMP:20260420T040007
CREATED:20230220T213157Z
LAST-MODIFIED:20230220T213157Z
UID:1023-1695834000-1695844800@cheawcd.org
SUMMARY:DD Visit - Monterey
DESCRIPTION:
URL:https://cheawcd.org/newsite/index.php/event/dd-visit-monterey-5/
END:VEVENT
BEGIN:VEVENT
DTSTART;TZID=America/Denver:20230926T170000
DTEND;TZID=America/Denver:20230926T200000
DTSTAMP:20260420T040007
CREATED:20230220T213016Z
LAST-MODIFIED:20230816T210419Z
UID:1017-1695747600-1695758400@cheawcd.org
SUMMARY:DD Visit - Santa Clara @ Sunnyvale
DESCRIPTION:
URL:https://cheawcd.org/newsite/index.php/event/dd-visit-santa-clara-sunnyvale/
END:VEVENT
BEGIN:VEVENT
DTSTART;TZID=America/Denver:20230920T170000
DTEND;TZID=America/Denver:20230920T200000
DTSTAMP:20260420T040007
CREATED:20230220T212942Z
LAST-MODIFIED:20230816T210337Z
UID:1015-1695229200-1695240000@cheawcd.org
SUMMARY:DD Visit - Salinas
DESCRIPTION:
URL:https://cheawcd.org/newsite/index.php/event/dd-visit-salinas-6/
END:VEVENT
BEGIN:VEVENT
DTSTART;TZID=America/Denver:20230919T170000
DTEND;TZID=America/Denver:20230919T200000
DTSTAMP:20260420T040007
CREATED:20230220T213129Z
LAST-MODIFIED:20230220T213129Z
UID:1021-1695142800-1695153600@cheawcd.org
SUMMARY:DD Visit - Hollister
DESCRIPTION:
URL:https://cheawcd.org/newsite/index.php/event/dd-visit-hollister-5/
END:VEVENT
BEGIN:VEVENT
DTSTART;TZID=America/Denver:20230914T170000
DTEND;TZID=America/Denver:20230914T200000
DTSTAMP:20260420T040007
CREATED:20230220T213048Z
LAST-MODIFIED:20230220T213048Z
UID:1019-1694710800-1694721600@cheawcd.org
SUMMARY:DD Visit - Palo Alto
DESCRIPTION:
URL:https://cheawcd.org/newsite/index.php/event/dd-visit-palo-alto-5/
END:VEVENT
BEGIN:VEVENT
DTSTART;TZID=America/Denver:20230827T113000
DTEND;TZID=America/Denver:20230827T160000
DTSTAMP:20260420T040007
CREATED:20230816T210856Z
LAST-MODIFIED:20230816T210856Z
UID:1072-1693135800-1693152000@cheawcd.org
SUMMARY:WCD Picnic hosted by the PER association
DESCRIPTION:2023 WCD PICNIC FLYER 2
URL:https://cheawcd.org/newsite/index.php/event/wcd-picnic-hosted-by-the-per-association/
END:VEVENT
BEGIN:VEVENT
DTSTART;TZID=America/Denver:20230812T090000
DTEND;TZID=America/Denver:20230812T120000
DTSTAMP:20260420T040007
CREATED:20230220T213559Z
LAST-MODIFIED:20230220T213559Z
UID:1035-1691830800-1691841600@cheawcd.org
SUMMARY:DD Clinic - Monterey
DESCRIPTION:
URL:https://cheawcd.org/newsite/index.php/event/dd-clinic-monterey/
END:VEVENT
BEGIN:VEVENT
DTSTART;TZID=America/Denver:20230729T170000
DTEND;TZID=America/Denver:20230729T200000
DTSTAMP:20260420T040007
CREATED:20230211T002036Z
LAST-MODIFIED:20230707T173112Z
UID:1002-1690650000-1690660800@cheawcd.org
SUMMARY:AVP Homecoming - Watsonville !!POSTPONED!!
DESCRIPTION:
URL:https://cheawcd.org/newsite/index.php/event/avp-homecoming-watsonville-2/
END:VEVENT
BEGIN:VEVENT
DTSTART;VALUE=DATE:20230702
DTEND;VALUE=DATE:20230706
DTSTAMP:20260420T040007
CREATED:20220601T190205Z
LAST-MODIFIED:20220601T190205Z
UID:880-1688256000-1688601599@cheawcd.org
SUMMARY:Grand Lodge - Minneapolis
DESCRIPTION:
URL:https://cheawcd.org/newsite/index.php/event/grand-lodge-minneapolis/
END:VEVENT
BEGIN:VEVENT
DTSTART;TZID=America/Denver:20230628T173000
DTEND;TZID=America/Denver:20230628T200000
DTSTAMP:20260420T040007
CREATED:20230211T001904Z
LAST-MODIFIED:20230211T001904Z
UID:998-1687973400-1687982400@cheawcd.org
SUMMARY:AVP Visit - Salinas
DESCRIPTION:
URL:https://cheawcd.org/newsite/index.php/event/avp-visit-salinas-3/
END:VEVENT
BEGIN:VEVENT
DTSTART;TZID=America/Denver:20230627T173000
DTEND;TZID=America/Denver:20230627T200000
DTSTAMP:20260420T040007
CREATED:20230211T001745Z
LAST-MODIFIED:20230528T193325Z
UID:994-1687887000-1687896000@cheawcd.org
SUMMARY:AVP Visit - Santa Clara (at Sunnyvale)
DESCRIPTION:
URL:https://cheawcd.org/newsite/index.php/event/avp-visit-santa-clara-2/
END:VEVENT
BEGIN:VEVENT
DTSTART;TZID=America/Denver:20230621T173000
DTEND;TZID=America/Denver:20230621T200000
DTSTAMP:20260420T040007
CREATED:20230211T001827Z
LAST-MODIFIED:20230211T001827Z
UID:996-1687368600-1687377600@cheawcd.org
SUMMARY:AVP Visit - Sunnyvale
DESCRIPTION:
URL:https://cheawcd.org/newsite/index.php/event/avp-visit-sunnyvale-4/
END:VEVENT
BEGIN:VEVENT
DTSTART;TZID=America/Denver:20230615T173000
DTEND;TZID=America/Denver:20230615T200000
DTSTAMP:20260420T040007
CREATED:20230211T001653Z
LAST-MODIFIED:20230211T001653Z
UID:992-1686850200-1686859200@cheawcd.org
SUMMARY:AVP Visit - Palo Alto
DESCRIPTION:
URL:https://cheawcd.org/newsite/index.php/event/avp-visit-palo-alto-3/
END:VEVENT
BEGIN:VEVENT
DTSTART;TZID=America/Denver:20230614T173000
DTEND;TZID=America/Denver:20230614T200000
DTSTAMP:20260420T040007
CREATED:20230211T001951Z
LAST-MODIFIED:20230528T195050Z
UID:1000-1686763800-1686772800@cheawcd.org
SUMMARY:AVP Visit - San Jose (at Sunnyvale)
DESCRIPTION:
URL:https://cheawcd.org/newsite/index.php/event/avp-visit-san-jose-2/
END:VEVENT
BEGIN:VEVENT
DTSTART;TZID=America/Denver:20230613T173000
DTEND;TZID=America/Denver:20230613T200000
DTSTAMP:20260420T040007
CREATED:20230211T001619Z
LAST-MODIFIED:20230211T001619Z
UID:990-1686677400-1686686400@cheawcd.org
SUMMARY:AVP Visit - Hollister
DESCRIPTION:
URL:https://cheawcd.org/newsite/index.php/event/avp-visit-hollister-3/
END:VEVENT
END:VCALENDAR