
BEGIN:VCALENDAR
VERSION:2.0
PRODID:-//CHEA West Central District - ECPv6.2.0//NONSGML v1.0//EN
CALSCALE:GREGORIAN
METHOD:PUBLISH
X-WR-CALNAME:CHEA West Central District
X-ORIGINAL-URL:https://cheawcd.org/newsite
X-WR-CALDESC:Events for CHEA West Central District
REFRESH-INTERVAL;VALUE=DURATION:PT1H
X-Robots-Tag:noindex
X-PUBLISHED-TTL:PT1H
BEGIN:VTIMEZONE
TZID:America/Denver
BEGIN:DAYLIGHT
TZOFFSETFROM:-0700
TZOFFSETTO:-0600
TZNAME:MDT
DTSTART:20220313T090000
END:DAYLIGHT
BEGIN:STANDARD
TZOFFSETFROM:-0600
TZOFFSETTO:-0700
TZNAME:MST
DTSTART:20221106T080000
END:STANDARD
BEGIN:DAYLIGHT
TZOFFSETFROM:-0700
TZOFFSETTO:-0600
TZNAME:MDT
DTSTART:20230312T090000
END:DAYLIGHT
BEGIN:STANDARD
TZOFFSETFROM:-0600
TZOFFSETTO:-0700
TZNAME:MST
DTSTART:20231105T080000
END:STANDARD
END:VTIMEZONE
BEGIN:VEVENT
DTSTART;TZID=America/Denver:20230401T153000
DTEND;TZID=America/Denver:20230401T190000
DTSTAMP:20260420T094804
CREATED:20230128T192901Z
LAST-MODIFIED:20230326T221350Z
UID:972-1680363000-1680375600@cheawcd.org
SUMMARY:Installation - Salinas; Dinner to follow
DESCRIPTION:
URL:https://cheawcd.org/newsite/index.php/event/installation-salinas-dinner-to-follow/
END:VEVENT
BEGIN:VEVENT
DTSTART;TZID=America/Denver:20230401T110000
DTEND;TZID=America/Denver:20230401T140000
DTSTAMP:20260420T094804
CREATED:20230128T192831Z
LAST-MODIFIED:20230128T192831Z
UID:970-1680346800-1680357600@cheawcd.org
SUMMARY:Installation - Monterey; Brunch to follow
DESCRIPTION:
URL:https://cheawcd.org/newsite/index.php/event/installation-monterey-brunch-to-follow/
END:VEVENT
BEGIN:VEVENT
DTSTART;TZID=America/Denver:20230325T100000
DTEND;TZID=America/Denver:20230325T140000
DTSTAMP:20260420T094804
CREATED:20230128T192758Z
LAST-MODIFIED:20230219T220947Z
UID:968-1679738400-1679752800@cheawcd.org
SUMMARY:Installation - Hollister\, Brunch to follow
DESCRIPTION:
URL:https://cheawcd.org/newsite/index.php/event/installation-hollister-brunch-to-follow/
END:VEVENT
BEGIN:VEVENT
DTSTART;TZID=America/Denver:20230319T110000
DTEND;TZID=America/Denver:20230319T140000
DTSTAMP:20260420T094804
CREATED:20230128T192712Z
LAST-MODIFIED:20230128T192712Z
UID:966-1679223600-1679234400@cheawcd.org
SUMMARY:Installation - Santa Cruz; brunch to follow
DESCRIPTION:
URL:https://cheawcd.org/newsite/index.php/event/installation-santa-cruz-brunch-to-follow/
END:VEVENT
BEGIN:VEVENT
DTSTART;TZID=America/Denver:20230318T183000
DTEND;TZID=America/Denver:20230318T200000
DTSTAMP:20260420T094804
CREATED:20230128T192633Z
LAST-MODIFIED:20230128T192633Z
UID:964-1679164200-1679169600@cheawcd.org
SUMMARY:Installation Dinner
DESCRIPTION:
URL:https://cheawcd.org/newsite/index.php/event/installation-dinner/
END:VEVENT
BEGIN:VEVENT
DTSTART;TZID=America/Denver:20230318T170000
DTEND;TZID=America/Denver:20230318T174500
DTSTAMP:20260420T094804
CREATED:20230128T192606Z
LAST-MODIFIED:20230128T192606Z
UID:962-1679158800-1679161500@cheawcd.org
SUMMARY:Installation - San Jose @ Sunnyvale
DESCRIPTION:
URL:https://cheawcd.org/newsite/index.php/event/installation-san-jose-sunnyvale/
END:VEVENT
BEGIN:VEVENT
DTSTART;TZID=America/Denver:20230318T160000
DTEND;TZID=America/Denver:20230318T164500
DTSTAMP:20260420T094804
CREATED:20230128T192535Z
LAST-MODIFIED:20230128T192535Z
UID:960-1679155200-1679157900@cheawcd.org
SUMMARY:Installation - Santa Clara @ Sunnyvale
DESCRIPTION:
URL:https://cheawcd.org/newsite/index.php/event/installation-santa-clara-sunnyvale/
END:VEVENT
BEGIN:VEVENT
DTSTART;TZID=America/Denver:20230318T150000
DTEND;TZID=America/Denver:20230318T154500
DTSTAMP:20260420T094804
CREATED:20230128T192458Z
LAST-MODIFIED:20230128T192458Z
UID:958-1679151600-1679154300@cheawcd.org
SUMMARY:Installation - Sunnyvale @ Sunnyvale
DESCRIPTION:
URL:https://cheawcd.org/newsite/index.php/event/installation-sunnyvale-sunnyvale/
END:VEVENT
BEGIN:VEVENT
DTSTART;TZID=America/Denver:20230311T170000
DTEND;TZID=America/Denver:20230311T230000
DTSTAMP:20260420T094804
CREATED:20230219T234125Z
LAST-MODIFIED:20230219T234132Z
UID:1009-1678554000-1678575600@cheawcd.org
SUMMARY:Teddy Olympics Fundraiser
DESCRIPTION:
URL:https://cheawcd.org/newsite/index.php/event/teddy-olympics-fundaiser/
END:VEVENT
BEGIN:VEVENT
DTSTART;TZID=America/Denver:20230225T090000
DTEND;TZID=America/Denver:20230225T120000
DTSTAMP:20260420T094804
CREATED:20220601T192528Z
LAST-MODIFIED:20230222T200043Z
UID:900-1677315600-1677326400@cheawcd.org
SUMMARY:WCD Ritual Clinic - Monterey
DESCRIPTION:
URL:https://cheawcd.org/newsite/index.php/event/wcd-ritual-clinic-santa-cruz/
END:VEVENT
BEGIN:VEVENT
DTSTART;TZID=America/Denver:20230121T090000
DTEND;TZID=America/Denver:20230121T120000
DTSTAMP:20260420T094804
CREATED:20220422T204032Z
LAST-MODIFIED:20220422T204032Z
UID:843-1674291600-1674302400@cheawcd.org
SUMMARY:DD Clinic - Salinas
DESCRIPTION:
URL:https://cheawcd.org/newsite/index.php/event/dd-clinic-salinas/
END:VEVENT
BEGIN:VEVENT
DTSTART;TZID=America/Denver:20230114T090000
DTEND;TZID=America/Denver:20230114T120000
DTSTAMP:20260420T094804
CREATED:20220601T192354Z
LAST-MODIFIED:20220601T192354Z
UID:895-1673686800-1673697600@cheawcd.org
SUMMARY:WCD Caucus - Gilroy
DESCRIPTION:
URL:https://cheawcd.org/newsite/index.php/event/wcd-caucus-gilroy-2/
END:VEVENT
BEGIN:VEVENT
DTSTART;TZID=America/Denver:20230107T080000
DTEND;TZID=America/Denver:20230107T170000
DTSTAMP:20260420T094804
CREATED:20220601T192505Z
LAST-MODIFIED:20220601T192505Z
UID:898-1673078400-1673110800@cheawcd.org
SUMMARY:WCD Hoop Shoot - TBD
DESCRIPTION:
URL:https://cheawcd.org/newsite/index.php/event/wcd-hoop-shoot-tbd/
END:VEVENT
BEGIN:VEVENT
DTSTART;TZID=America/Denver:20221119T180000
DTEND;TZID=America/Denver:20221119T220000
DTSTAMP:20260420T094804
CREATED:20221108T202556Z
LAST-MODIFIED:20221108T203410Z
UID:950-1668880800-1668895200@cheawcd.org
SUMMARY:Elks Night at Santa Cruz Warriors
DESCRIPTION:Don’t forget to buy your tickets for Elks Night with the Santa Cruz Warriors coming up on Saturday\, November 19th\, 2022.Â  A fun night with fellow Elks and professional basketball at the Kaiser Permanente Arena. The Warriors take on the South Bay Lakers. Part of your $30 ticket price goes to Elks Charities. A free hat and promotional giveaways await you!\n\nTo purchase tickets:\n\nhttps://scwarriors.spinzo.com/scw-v-south-bay-lakers-2022-11-19-XNVCR?group=santa-cruz-elks-lodge-night–3suw
URL:https://cheawcd.org/newsite/index.php/event/elks-night-at-santa-cruz-warriors/
END:VEVENT
BEGIN:VEVENT
DTSTART;TZID=America/Denver:20221112T170000
DTEND;TZID=America/Denver:20221112T210000
DTSTAMP:20260420T094804
CREATED:20220422T203851Z
LAST-MODIFIED:20220422T203851Z
UID:837-1668272400-1668286800@cheawcd.org
SUMMARY:DD Homecoming - Hollister
DESCRIPTION:
URL:https://cheawcd.org/newsite/index.php/event/dd-homecoming-hollister-4/
END:VEVENT
BEGIN:VEVENT
DTSTART;VALUE=DATE:20221104
DTEND;VALUE=DATE:20221106
DTSTAMP:20260420T094804
CREATED:20220125T193403Z
LAST-MODIFIED:20220125T193403Z
UID:752-1667520000-1667692799@cheawcd.org
SUMMARY:State Mid-term - Burbank
DESCRIPTION:
URL:https://cheawcd.org/newsite/index.php/event/state-mid-term-burbank/
END:VEVENT
BEGIN:VEVENT
DTSTART;TZID=America/Denver:20221027T170000
DTEND;TZID=America/Denver:20221027T170000
DTSTAMP:20260420T094804
CREATED:20220422T183030Z
LAST-MODIFIED:20220601T190648Z
UID:829-1666890000-1666890000@cheawcd.org
SUMMARY:DD Visit - Palo Alto
DESCRIPTION:
URL:https://cheawcd.org/newsite/index.php/event/dd-visit-palo-alto-4/
END:VEVENT
BEGIN:VEVENT
DTSTART;TZID=America/Denver:20221020T170000
DTEND;TZID=America/Denver:20221020T200000
DTSTAMP:20260420T094804
CREATED:20220601T191032Z
LAST-MODIFIED:20220601T191032Z
UID:889-1666285200-1666296000@cheawcd.org
SUMMARY:DD Visit - Santa Cruz
DESCRIPTION:
URL:https://cheawcd.org/newsite/index.php/event/dd-visit-santa-cruz-5/
END:VEVENT
BEGIN:VEVENT
DTSTART;TZID=America/Denver:20221015T090000
DTEND;TZID=America/Denver:20221015T120000
DTSTAMP:20260420T094804
CREATED:20220422T203957Z
LAST-MODIFIED:20220816T225407Z
UID:841-1665824400-1665835200@cheawcd.org
SUMMARY:DD Clinic - Knights & Trustees @ Palo Alto
DESCRIPTION:
URL:https://cheawcd.org/newsite/index.php/event/dd-clinic-knights-trustees-hollister/
END:VEVENT
BEGIN:VEVENT
DTSTART;TZID=America/Denver:20221013T173000
DTEND;TZID=America/Denver:20221013T200000
DTSTAMP:20260420T094804
CREATED:20220422T203814Z
LAST-MODIFIED:20220601T190928Z
UID:835-1665682200-1665691200@cheawcd.org
SUMMARY:DD Visit - San Jose @ Sunnyvale
DESCRIPTION:
URL:https://cheawcd.org/newsite/index.php/event/dd-visit-santa-cruz-4/
END:VEVENT
BEGIN:VEVENT
DTSTART;TZID=America/Denver:20221005T173000
DTEND;TZID=America/Denver:20221005T200000
DTSTAMP:20260420T094804
CREATED:20220422T203702Z
LAST-MODIFIED:20220422T203747Z
UID:831-1664991000-1665000000@cheawcd.org
SUMMARY:DD Visit - Watsonville
DESCRIPTION:
URL:https://cheawcd.org/newsite/index.php/event/dd-visit-watsonville-3/
END:VEVENT
BEGIN:VEVENT
DTSTART;TZID=America/Denver:20220928T170000
DTEND;TZID=America/Denver:20220928T200000
DTSTAMP:20260420T094804
CREATED:20220601T190531Z
LAST-MODIFIED:20220601T190532Z
UID:886-1664384400-1664395200@cheawcd.org
SUMMARY:DD Visit - Sunnyvale
DESCRIPTION:
URL:https://cheawcd.org/newsite/index.php/event/dd-visit-sunnyvale-5/
END:VEVENT
BEGIN:VEVENT
DTSTART;TZID=America/Denver:20220921T173000
DTEND;TZID=America/Denver:20220921T210000
DTSTAMP:20260420T094804
CREATED:20220422T182954Z
LAST-MODIFIED:20220422T182954Z
UID:827-1663781400-1663794000@cheawcd.org
SUMMARY:DD Visit - Gilroy
DESCRIPTION:
URL:https://cheawcd.org/newsite/index.php/event/dd-visit-gilroy-3/
END:VEVENT
BEGIN:VEVENT
DTSTART;TZID=America/Denver:20220913T173000
DTEND;TZID=America/Denver:20220913T210000
DTSTAMP:20260420T094804
CREATED:20220422T182926Z
LAST-MODIFIED:20220816T192353Z
UID:825-1663090200-1663102800@cheawcd.org
SUMMARY:DD Visit -  Santa Clara @ Sunnyvale
DESCRIPTION:
URL:https://cheawcd.org/newsite/index.php/event/dd-visit-sunnyvale-san-jose-santa-clara-sunnyvale/
END:VEVENT
BEGIN:VEVENT
DTSTART;TZID=America/Denver:20220909T170000
DTEND;TZID=America/Denver:20220909T210000
DTSTAMP:20260420T094804
CREATED:20220803T160853Z
LAST-MODIFIED:20220803T160853Z
UID:937-1662742800-1662757200@cheawcd.org
SUMMARY:Hoedown on the Hill
DESCRIPTION:
URL:https://cheawcd.org/newsite/index.php/event/hoedown-on-the-hill/
END:VEVENT
BEGIN:VEVENT
DTSTART;TZID=America/Denver:20220906T173000
DTEND;TZID=America/Denver:20220906T210000
DTSTAMP:20260420T094804
CREATED:20220422T182844Z
LAST-MODIFIED:20220422T182844Z
UID:823-1662485400-1662498000@cheawcd.org
SUMMARY:DD Visit - Hollister
DESCRIPTION:
URL:https://cheawcd.org/newsite/index.php/event/dd-visit-hollister-4/
END:VEVENT
BEGIN:VEVENT
DTSTART;TZID=America/Denver:20220831T173000
DTEND;TZID=America/Denver:20220831T210000
DTSTAMP:20260420T094804
CREATED:20220422T182820Z
LAST-MODIFIED:20220422T182820Z
UID:821-1661967000-1661979600@cheawcd.org
SUMMARY:DD Visit - Salinas
DESCRIPTION:
URL:https://cheawcd.org/newsite/index.php/event/dd-visit-salinas-5/
END:VEVENT
BEGIN:VEVENT
DTSTART;TZID=America/Denver:20220824T173000
DTEND;TZID=America/Denver:20220824T200000
DTSTAMP:20260420T094804
CREATED:20220422T182754Z
LAST-MODIFIED:20220422T182754Z
UID:819-1661362200-1661371200@cheawcd.org
SUMMARY:DD Visit - Monterey
DESCRIPTION:
URL:https://cheawcd.org/newsite/index.php/event/dd-visit-monterey-4/
END:VEVENT
BEGIN:VEVENT
DTSTART;TZID=America/Denver:20220820T170000
DTEND;TZID=America/Denver:20220820T200000
DTSTAMP:20260420T094804
CREATED:20220321T184456Z
LAST-MODIFIED:20220321T184456Z
UID:807-1661014800-1661025600@cheawcd.org
SUMMARY:AVP Homecoming @ Watsonville
DESCRIPTION:
URL:https://cheawcd.org/newsite/index.php/event/avp-homecoming-watsonville/
END:VEVENT
BEGIN:VEVENT
DTSTART;TZID=America/Denver:20220813T090000
DTEND;TZID=America/Denver:20220813T120000
DTSTAMP:20260420T094804
CREATED:20220422T203915Z
LAST-MODIFIED:20220422T203915Z
UID:839-1660381200-1660392000@cheawcd.org
SUMMARY:DD Clinic - Hollister
DESCRIPTION:
URL:https://cheawcd.org/newsite/index.php/event/dd-clinic-hollister-6/
END:VEVENT
END:VCALENDAR