
BEGIN:VCALENDAR
VERSION:2.0
PRODID:-//CHEA West Central District - ECPv6.2.0//NONSGML v1.0//EN
CALSCALE:GREGORIAN
METHOD:PUBLISH
X-WR-CALNAME:CHEA West Central District
X-ORIGINAL-URL:https://cheawcd.org/newsite
X-WR-CALDESC:Events for CHEA West Central District
REFRESH-INTERVAL;VALUE=DURATION:PT1H
X-Robots-Tag:noindex
X-PUBLISHED-TTL:PT1H
BEGIN:VTIMEZONE
TZID:America/Denver
BEGIN:DAYLIGHT
TZOFFSETFROM:-0700
TZOFFSETTO:-0600
TZNAME:MDT
DTSTART:20220313T090000
END:DAYLIGHT
BEGIN:STANDARD
TZOFFSETFROM:-0600
TZOFFSETTO:-0700
TZNAME:MST
DTSTART:20221106T080000
END:STANDARD
END:VTIMEZONE
BEGIN:VEVENT
DTSTART;TZID=America/Denver:20220614T173000
DTEND;TZID=America/Denver:20220614T200000
DTSTAMP:20260420T160308
CREATED:20220321T184131Z
LAST-MODIFIED:20220321T184131Z
UID:793-1655227800-1655236800@cheawcd.org
SUMMARY:AVP Visit - Hollister
DESCRIPTION:
URL:https://cheawcd.org/newsite/index.php/event/avp-visit-hollister-2/
END:VEVENT
BEGIN:VEVENT
DTSTART;TZID=America/Denver:20220609T173000
DTEND;TZID=America/Denver:20220609T200000
DTSTAMP:20260420T160308
CREATED:20220321T184248Z
LAST-MODIFIED:20220509T204302Z
UID:799-1654795800-1654804800@cheawcd.org
SUMMARY:AVP Visit - Santa Cruz
DESCRIPTION:
URL:https://cheawcd.org/newsite/index.php/event/avp-visit-santa-cruz-2/
END:VEVENT
BEGIN:VEVENT
DTSTART;TZID=America/Denver:20220608T173000
DTEND;TZID=America/Denver:20220608T200000
DTSTAMP:20260420T160308
CREATED:20220321T184033Z
LAST-MODIFIED:20220321T184033Z
UID:789-1654709400-1654718400@cheawcd.org
SUMMARY:AVP Visit - Gilroy
DESCRIPTION:
URL:https://cheawcd.org/newsite/index.php/event/avp-visit-gilroy-2/
END:VEVENT
BEGIN:VEVENT
DTSTART;TZID=America/Denver:20220602T173000
DTEND;TZID=America/Denver:20220602T200000
DTSTAMP:20260420T160308
CREATED:20220321T184058Z
LAST-MODIFIED:20220417T213701Z
UID:791-1654191000-1654200000@cheawcd.org
SUMMARY:AVP Visit - Palo Alto
DESCRIPTION:
URL:https://cheawcd.org/newsite/index.php/event/avp-visit-palo-alto-2/
END:VEVENT
BEGIN:VEVENT
DTSTART;TZID=America/Denver:20220601T173000
DTEND;TZID=America/Denver:20220601T200000
DTSTAMP:20260420T160308
CREATED:20220321T184007Z
LAST-MODIFIED:20220321T184007Z
UID:787-1654104600-1654113600@cheawcd.org
SUMMARY:AVP Visit - Monterey
DESCRIPTION:
URL:https://cheawcd.org/newsite/index.php/event/avp-visit-monterey-2/
END:VEVENT
BEGIN:VEVENT
DTSTART;TZID=America/Denver:20220525T173000
DTEND;TZID=America/Denver:20220525T200000
DTSTAMP:20260420T160308
CREATED:20220321T183932Z
LAST-MODIFIED:20220321T183932Z
UID:785-1653499800-1653508800@cheawcd.org
SUMMARY:AVP Visit - Salinas
DESCRIPTION:
URL:https://cheawcd.org/newsite/index.php/event/avp-visit-salinas-2/
END:VEVENT
BEGIN:VEVENT
DTSTART;VALUE=DATE:20220518
DTEND;VALUE=DATE:20220522
DTSTAMP:20260420T160308
CREATED:20220125T193309Z
LAST-MODIFIED:20220125T193309Z
UID:750-1652832000-1653177599@cheawcd.org
SUMMARY:State Convention - Fresno
DESCRIPTION:
URL:https://cheawcd.org/newsite/index.php/event/state-convention-fresno/
END:VEVENT
BEGIN:VEVENT
DTSTART;TZID=America/Denver:20220430T190000
DTEND;TZID=America/Denver:20220430T200000
DTSTAMP:20260420T160308
CREATED:20220422T233937Z
LAST-MODIFIED:20220422T233937Z
UID:869-1651345200-1651348800@cheawcd.org
SUMMARY:WCD Ritual: Award
DESCRIPTION:
URL:https://cheawcd.org/newsite/index.php/event/wcd-ritual-award/
END:VEVENT
BEGIN:VEVENT
DTSTART;TZID=America/Denver:20220430T180000
DTEND;TZID=America/Denver:20220430T190000
DTSTAMP:20260420T160308
CREATED:20220422T233919Z
LAST-MODIFIED:20220422T233919Z
UID:867-1651341600-1651345200@cheawcd.org
SUMMARY:WCD Ritual: Dinner
DESCRIPTION:
URL:https://cheawcd.org/newsite/index.php/event/wcd-ritual-dinner/
END:VEVENT
BEGIN:VEVENT
DTSTART;TZID=America/Denver:20220430T170000
DTEND;TZID=America/Denver:20220430T180000
DTSTAMP:20260420T160308
CREATED:20220422T233900Z
LAST-MODIFIED:20220422T233900Z
UID:865-1651338000-1651341600@cheawcd.org
SUMMARY:WCD Ritual: Social Hour
DESCRIPTION:
URL:https://cheawcd.org/newsite/index.php/event/wcd-ritual-social-hour/
END:VEVENT
BEGIN:VEVENT
DTSTART;TZID=America/Denver:20220430T160000
DTEND;TZID=America/Denver:20220430T170000
DTSTAMP:20260420T160308
CREATED:20220422T233837Z
LAST-MODIFIED:20220422T233837Z
UID:863-1651334400-1651338000@cheawcd.org
SUMMARY:WCD Ritual: 11 o'clock Toast
DESCRIPTION:
URL:https://cheawcd.org/newsite/index.php/event/wcd-ritual-11-oclock-toast/
END:VEVENT
BEGIN:VEVENT
DTSTART;TZID=America/Denver:20220430T150000
DTEND;TZID=America/Denver:20220430T160000
DTSTAMP:20260420T160308
CREATED:20220422T233811Z
LAST-MODIFIED:20220422T233811Z
UID:861-1651330800-1651334400@cheawcd.org
SUMMARY:WCD Ritual: Palo Alto
DESCRIPTION:
URL:https://cheawcd.org/newsite/index.php/event/wcd-ritual-palo-alto/
END:VEVENT
BEGIN:VEVENT
DTSTART;TZID=America/Denver:20220430T140000
DTEND;TZID=America/Denver:20220430T150000
DTSTAMP:20260420T160308
CREATED:20220422T233744Z
LAST-MODIFIED:20220422T233744Z
UID:859-1651327200-1651330800@cheawcd.org
SUMMARY:WCD Ritual: Santa Clara
DESCRIPTION:
URL:https://cheawcd.org/newsite/index.php/event/wcd-ritual-santa-clara/
END:VEVENT
BEGIN:VEVENT
DTSTART;TZID=America/Denver:20220430T130000
DTEND;TZID=America/Denver:20220430T140000
DTSTAMP:20260420T160308
CREATED:20220422T233720Z
LAST-MODIFIED:20220422T233720Z
UID:857-1651323600-1651327200@cheawcd.org
SUMMARY:WCD Ritual: Sunnyvale
DESCRIPTION:
URL:https://cheawcd.org/newsite/index.php/event/wcd-ritual-sunnyvale/
END:VEVENT
BEGIN:VEVENT
DTSTART;TZID=America/Denver:20220430T120000
DTEND;TZID=America/Denver:20220430T130000
DTSTAMP:20260420T160308
CREATED:20220422T233652Z
LAST-MODIFIED:20220422T233652Z
UID:855-1651320000-1651323600@cheawcd.org
SUMMARY:WCD Ritual: Lunch
DESCRIPTION:
URL:https://cheawcd.org/newsite/index.php/event/wcd-ritual-lunch/
END:VEVENT
BEGIN:VEVENT
DTSTART;TZID=America/Denver:20220430T110000
DTEND;TZID=America/Denver:20220430T120000
DTSTAMP:20260420T160308
CREATED:20220422T233629Z
LAST-MODIFIED:20220422T233629Z
UID:853-1651316400-1651320000@cheawcd.org
SUMMARY:WCD Ritual: Monterey
DESCRIPTION:
URL:https://cheawcd.org/newsite/index.php/event/wcd-ritual-monterey/
END:VEVENT
BEGIN:VEVENT
DTSTART;TZID=America/Denver:20220430T090000
DTEND;TZID=America/Denver:20220430T110000
DTSTAMP:20260420T160308
CREATED:20220422T233603Z
LAST-MODIFIED:20220422T233603Z
UID:851-1651309200-1651316400@cheawcd.org
SUMMARY:WCD Ritual: Continental Breakfast
DESCRIPTION:
URL:https://cheawcd.org/newsite/index.php/event/wcd-ritual-continental-breakfast/
END:VEVENT
BEGIN:VEVENT
DTSTART;TZID=America/Denver:20220429T180000
DTEND;TZID=America/Denver:20220429T190000
DTSTAMP:20260420T160308
CREATED:20220422T233530Z
LAST-MODIFIED:20220422T233530Z
UID:849-1651255200-1651258800@cheawcd.org
SUMMARY:WCD Ritual: Santa Cruz
DESCRIPTION:
URL:https://cheawcd.org/newsite/index.php/event/wcd-ritual-santa-cruz/
END:VEVENT
BEGIN:VEVENT
DTSTART;TZID=America/Denver:20220429T170000
DTEND;TZID=America/Denver:20220429T180000
DTSTAMP:20260420T160308
CREATED:20210521T205712Z
LAST-MODIFIED:20220422T234100Z
UID:692-1651251600-1651255200@cheawcd.org
SUMMARY:WCD Ritual - Salinas
DESCRIPTION:
URL:https://cheawcd.org/newsite/index.php/event/ritual-contest-salinas/
END:VEVENT
BEGIN:VEVENT
DTSTART;TZID=America/Denver:20220423T130000
DTEND;TZID=America/Denver:20220423T153000
DTSTAMP:20260420T160308
CREATED:20220410T172226Z
LAST-MODIFIED:20220410T172226Z
UID:814-1650718800-1650727800@cheawcd.org
SUMMARY:Mandatory Sexual Harassment Training (Hollister)
DESCRIPTION:
URL:https://cheawcd.org/newsite/index.php/event/mandatory-sexual-harassment-training-hollister/
END:VEVENT
BEGIN:VEVENT
DTSTART;TZID=America/Denver:20220416T090000
DTEND;TZID=America/Denver:20220416T120000
DTSTAMP:20260420T160308
CREATED:20210521T205420Z
LAST-MODIFIED:20220223T172913Z
UID:683-1650099600-1650110400@cheawcd.org
SUMMARY:DD Clinic -- Gilroy
DESCRIPTION:
URL:https://cheawcd.org/newsite/index.php/event/dd-clinic-gilroy/
END:VEVENT
BEGIN:VEVENT
DTSTART;TZID=America/Denver:20220410T143000
DTEND;TZID=America/Denver:20220410T163000
DTSTAMP:20260420T160308
CREATED:20220216T001505Z
LAST-MODIFIED:20220322T194635Z
UID:775-1649601000-1649608200@cheawcd.org
SUMMARY:Installation of Officers: Salinas
DESCRIPTION:
URL:https://cheawcd.org/newsite/index.php/event/installation-of-officers-salinas/
END:VEVENT
BEGIN:VEVENT
DTSTART;TZID=America/Denver:20220409T133000
DTEND;TZID=America/Denver:20220409T143000
DTSTAMP:20260420T160308
CREATED:20220322T193932Z
LAST-MODIFIED:20220322T193932Z
UID:810-1649511000-1649514600@cheawcd.org
SUMMARY:Santa Clara - Installation of Officers (@Monterey)
DESCRIPTION:
URL:https://cheawcd.org/newsite/index.php/event/santa-clara-installation-of-officers-monterey/
END:VEVENT
BEGIN:VEVENT
DTSTART;TZID=America/Denver:20220409T110000
DTEND;TZID=America/Denver:20220409T140000
DTSTAMP:20260420T160308
CREATED:20220211T225744Z
LAST-MODIFIED:20220211T225744Z
UID:759-1649502000-1649512800@cheawcd.org
SUMMARY:Monterey: Installation of Officers
DESCRIPTION:
URL:https://cheawcd.org/newsite/index.php/event/monterey-installation-of-officers/
END:VEVENT
BEGIN:VEVENT
DTSTART;TZID=America/Denver:20220403T110000
DTEND;TZID=America/Denver:20220403T160000
DTSTAMP:20260420T160308
CREATED:20220214T191903Z
LAST-MODIFIED:20220222T205433Z
UID:763-1648983600-1649001600@cheawcd.org
SUMMARY:Installation of Officers: Santa Cruz
DESCRIPTION:
URL:https://cheawcd.org/newsite/index.php/event/installation-of-officers-santa-cruz/
END:VEVENT
BEGIN:VEVENT
DTSTART;TZID=America/Denver:20220402T160000
DTEND;TZID=America/Denver:20220402T190000
DTSTAMP:20260420T160308
CREATED:20220216T000758Z
LAST-MODIFIED:20220216T000758Z
UID:773-1648915200-1648926000@cheawcd.org
SUMMARY:Installation of Officers: Palo Alto
DESCRIPTION:
URL:https://cheawcd.org/newsite/index.php/event/installation-of-officers-palo-alto/
END:VEVENT
BEGIN:VEVENT
DTSTART;TZID=America/Denver:20220327T110000
DTEND;TZID=America/Denver:20220327T140000
DTSTAMP:20260420T160308
CREATED:20220214T192033Z
LAST-MODIFIED:20220214T192033Z
UID:767-1648378800-1648389600@cheawcd.org
SUMMARY:Installation of Officers: Hollister
DESCRIPTION:
URL:https://cheawcd.org/newsite/index.php/event/installation-of-officers-hollister/
END:VEVENT
BEGIN:VEVENT
DTSTART;TZID=America/Denver:20220327T103000
DTEND;TZID=America/Denver:20220327T113000
DTSTAMP:20260420T160308
CREATED:20220317T173518Z
LAST-MODIFIED:20220317T173518Z
UID:782-1648377000-1648380600@cheawcd.org
SUMMARY:Installation of Officers: Watsonville (at Hollister Lodge)
DESCRIPTION:
URL:https://cheawcd.org/newsite/index.php/event/installation-of-officers-watsonville-at-hollister-lodge/
END:VEVENT
BEGIN:VEVENT
DTSTART;TZID=America/Denver:20220326T160000
DTEND;TZID=America/Denver:20220326T190000
DTSTAMP:20260420T160308
CREATED:20220211T225706Z
LAST-MODIFIED:20220322T194149Z
UID:757-1648310400-1648321200@cheawcd.org
SUMMARY:San Jose Installation of Officers (@Sunnyvale)
DESCRIPTION:
URL:https://cheawcd.org/newsite/index.php/event/san-jose-installation-of-officers/
END:VEVENT
BEGIN:VEVENT
DTSTART;TZID=America/Denver:20220326T100000
DTEND;TZID=America/Denver:20220326T140000
DTSTAMP:20260420T160308
CREATED:20220214T192004Z
LAST-MODIFIED:20220322T194049Z
UID:765-1648288800-1648303200@cheawcd.org
SUMMARY:Installation of Officers: Sunnyvale
DESCRIPTION:
URL:https://cheawcd.org/newsite/index.php/event/installation-of-officers-sunnyvale/
END:VEVENT
END:VCALENDAR