
BEGIN:VCALENDAR
VERSION:2.0
PRODID:-//CHEA West Central District - ECPv6.2.0//NONSGML v1.0//EN
CALSCALE:GREGORIAN
METHOD:PUBLISH
X-WR-CALNAME:CHEA West Central District
X-ORIGINAL-URL:https://cheawcd.org/newsite
X-WR-CALDESC:Events for CHEA West Central District
REFRESH-INTERVAL;VALUE=DURATION:PT1H
X-Robots-Tag:noindex
X-PUBLISHED-TTL:PT1H
BEGIN:VTIMEZONE
TZID:America/Denver
BEGIN:DAYLIGHT
TZOFFSETFROM:-0700
TZOFFSETTO:-0600
TZNAME:MDT
DTSTART:20210314T090000
END:DAYLIGHT
BEGIN:STANDARD
TZOFFSETFROM:-0600
TZOFFSETTO:-0700
TZNAME:MST
DTSTART:20211107T080000
END:STANDARD
END:VTIMEZONE
BEGIN:VEVENT
DTSTART;TZID=America/Denver:20211030T170000
DTEND;TZID=America/Denver:20211030T230000
DTSTAMP:20260420T224422
CREATED:20210823T235204Z
LAST-MODIFIED:20210823T235204Z
UID:708-1635613200-1635634800@cheawcd.org
SUMMARY:Salinas Lodge: Airshow After Party
DESCRIPTION:
URL:https://cheawcd.org/newsite/index.php/event/salinas-lodge-airshow-after-party/
END:VEVENT
BEGIN:VEVENT
DTSTART;TZID=America/Denver:20211023T170000
DTEND;TZID=America/Denver:20211023T200000
DTSTAMP:20260420T224422
CREATED:20210509T230053Z
LAST-MODIFIED:20210509T230053Z
UID:670-1635008400-1635019200@cheawcd.org
SUMMARY:DD Homecoming (Hollister)
DESCRIPTION:
URL:https://cheawcd.org/newsite/index.php/event/dd-homecoming-hollister-3/
END:VEVENT
BEGIN:VEVENT
DTSTART;TZID=America/Denver:20211016T090000
DTEND;TZID=America/Denver:20211016T120000
DTSTAMP:20260420T224422
CREATED:20211005T191216Z
LAST-MODIFIED:20211005T191216Z
UID:723-1634374800-1634385600@cheawcd.org
SUMMARY:DD Clinic - Santa Cruz
DESCRIPTION:Required: Esteemed Leading Knight\, Loyal Knight and Trustees
URL:https://cheawcd.org/newsite/index.php/event/dd-clinic-santa-cruz-3/
END:VEVENT
BEGIN:VEVENT
DTSTART;TZID=America/Denver:20211013T170000
DTEND;TZID=America/Denver:20211013T200000
DTSTAMP:20260420T224422
CREATED:20210509T230012Z
LAST-MODIFIED:20210509T230012Z
UID:668-1634144400-1634155200@cheawcd.org
SUMMARY:DD Visit - Watsonville
DESCRIPTION:
URL:https://cheawcd.org/newsite/index.php/event/dd-visit-watsonville-2/
END:VEVENT
BEGIN:VEVENT
DTSTART;TZID=America/Denver:20211006T170000
DTEND;TZID=America/Denver:20211006T200000
DTSTAMP:20260420T224422
CREATED:20210509T225946Z
LAST-MODIFIED:20210509T225946Z
UID:666-1633539600-1633550400@cheawcd.org
SUMMARY:DD Visit - Sunnyvale
DESCRIPTION:
URL:https://cheawcd.org/newsite/index.php/event/dd-visit-sunnyvale-4/
END:VEVENT
BEGIN:VEVENT
DTSTART;TZID=America/Denver:20210930T170000
DTEND;TZID=America/Denver:20210930T200000
DTSTAMP:20260420T224422
CREATED:20210509T225849Z
LAST-MODIFIED:20210823T231947Z
UID:662-1633021200-1633032000@cheawcd.org
SUMMARY:DD Visit - Santa Cruz
DESCRIPTION:
URL:https://cheawcd.org/newsite/index.php/event/dd-visit-santa-cruz-3/
END:VEVENT
BEGIN:VEVENT
DTSTART;TZID=America/Denver:20210929T170000
DTEND;TZID=America/Denver:20210929T200000
DTSTAMP:20260420T224422
CREATED:20210509T225914Z
LAST-MODIFIED:20210509T225914Z
UID:664-1632934800-1632945600@cheawcd.org
SUMMARY:DD Visit - Santa Clara
DESCRIPTION:
URL:https://cheawcd.org/newsite/index.php/event/dd-visit-santa-clara-3/
END:VEVENT
BEGIN:VEVENT
DTSTART;TZID=America/Denver:20210921T170000
DTEND;TZID=America/Denver:20210921T200000
DTSTAMP:20260420T224422
CREATED:20210913T200722Z
LAST-MODIFIED:20210913T200722Z
UID:720-1632243600-1632254400@cheawcd.org
SUMMARY:DD Visit -- Salinas
DESCRIPTION:
URL:https://cheawcd.org/newsite/index.php/event/dd-visit-salinas-4/
END:VEVENT
BEGIN:VEVENT
DTSTART;TZID=America/Denver:20210918T110000
DTEND;TZID=America/Denver:20210918T160000
DTSTAMP:20260420T224422
CREATED:20210904T193310Z
LAST-MODIFIED:20210904T193322Z
UID:715-1631962800-1631980800@cheawcd.org
SUMMARY:Tom Brazier\, PGER Celebration of Life (Santa Cruz Lodge)
DESCRIPTION:
URL:https://cheawcd.org/newsite/index.php/event/tom-brazier-pger-celebration-of-life/
END:VEVENT
BEGIN:VEVENT
DTSTART;TZID=America/Denver:20210917T183000
DTEND;TZID=America/Denver:20210917T183000
DTSTAMP:20260420T224422
CREATED:20210823T235512Z
LAST-MODIFIED:20210823T235512Z
UID:711-1631903400-1631903400@cheawcd.org
SUMMARY:Salinas Lodge: Fall Centerpiece Night
DESCRIPTION:
URL:https://cheawcd.org/newsite/index.php/event/salinas-lodge-fall-centerpiece-night/
END:VEVENT
BEGIN:VEVENT
DTSTART;TZID=America/Denver:20210915T170000
DTEND;TZID=America/Denver:20210915T200000
DTSTAMP:20260420T224422
CREATED:20210509T225820Z
LAST-MODIFIED:20210509T225820Z
UID:660-1631725200-1631736000@cheawcd.org
SUMMARY:DD Visit - San Jose
DESCRIPTION:
URL:https://cheawcd.org/newsite/index.php/event/dd-visit-san-jose-3/
END:VEVENT
BEGIN:VEVENT
DTSTART;VALUE=DATE:20210912
DTEND;VALUE=DATE:20210913
DTSTAMP:20260420T224422
CREATED:20210823T235011Z
LAST-MODIFIED:20210823T235011Z
UID:702-1631404800-1631491199@cheawcd.org
SUMMARY:Salinas Lodge: Football
DESCRIPTION:
URL:https://cheawcd.org/newsite/index.php/event/salinas-lodge-football/
END:VEVENT
BEGIN:VEVENT
DTSTART;TZID=America/Denver:20210911T170000
DTEND;TZID=America/Denver:20210911T170000
DTSTAMP:20260420T224422
CREATED:20210823T234917Z
LAST-MODIFIED:20210823T234917Z
UID:699-1631379600-1631379600@cheawcd.org
SUMMARY:Salinas Lodge: DP & The Boyz
DESCRIPTION:
URL:https://cheawcd.org/newsite/index.php/event/salinas-lodge-dp-the-boyz/
END:VEVENT
BEGIN:VEVENT
DTSTART;TZID=America/Denver:20210908T170000
DTEND;TZID=America/Denver:20210908T200000
DTSTAMP:20260420T224422
CREATED:20210509T225757Z
LAST-MODIFIED:20210913T200650Z
UID:658-1631120400-1631131200@cheawcd.org
SUMMARY:DD Visit - Salinas (cancelled)
DESCRIPTION:
URL:https://cheawcd.org/newsite/index.php/event/dd-visit-salinas-3/
END:VEVENT
BEGIN:VEVENT
DTSTART;TZID=America/Denver:20210903T180000
DTEND;TZID=America/Denver:20210903T180000
DTSTAMP:20260420T224422
CREATED:20210823T235103Z
LAST-MODIFIED:20210823T235103Z
UID:705-1630692000-1630692000@cheawcd.org
SUMMARY:Salinas Lodge: Rib Night
DESCRIPTION:
URL:https://cheawcd.org/newsite/index.php/event/salinas-lodge-rib-night/
END:VEVENT
BEGIN:VEVENT
DTSTART;TZID=America/Denver:20210902T170000
DTEND;TZID=America/Denver:20210902T200000
DTSTAMP:20260420T224422
CREATED:20210509T225728Z
LAST-MODIFIED:20210509T225728Z
UID:656-1630602000-1630612800@cheawcd.org
SUMMARY:DD Visit - Palo Alto
DESCRIPTION:
URL:https://cheawcd.org/newsite/index.php/event/dd-visit-palo-alto-3/
END:VEVENT
BEGIN:VEVENT
DTSTART;TZID=America/Denver:20210825T170000
DTEND;TZID=America/Denver:20210825T200000
DTSTAMP:20260420T224422
CREATED:20210509T225655Z
LAST-MODIFIED:20210509T225655Z
UID:654-1629910800-1629921600@cheawcd.org
SUMMARY:DD Visit - Monterey
DESCRIPTION:
URL:https://cheawcd.org/newsite/index.php/event/dd-visit-monterey-3/
END:VEVENT
BEGIN:VEVENT
DTSTART;TZID=America/Denver:20210821T173000
DTEND;TZID=America/Denver:20210821T190000
DTSTAMP:20260420T224422
CREATED:20210403T195904Z
LAST-MODIFIED:20210403T195904Z
UID:631-1629567000-1629572400@cheawcd.org
SUMMARY:AVP Homecoming - Santa Cruz
DESCRIPTION:
URL:https://cheawcd.org/newsite/index.php/event/avp-homecoming-santa-cruz/
END:VEVENT
BEGIN:VEVENT
DTSTART;TZID=America/Denver:20210817T170000
DTEND;TZID=America/Denver:20210817T200000
DTSTAMP:20260420T224422
CREATED:20210509T225632Z
LAST-MODIFIED:20210509T225632Z
UID:652-1629219600-1629230400@cheawcd.org
SUMMARY:DD Visit - Hollister
DESCRIPTION:
URL:https://cheawcd.org/newsite/index.php/event/dd-visit-hollister-3/
END:VEVENT
BEGIN:VEVENT
DTSTART;TZID=America/Denver:20210811T170000
DTEND;TZID=America/Denver:20210811T200000
DTSTAMP:20260420T224422
CREATED:20210509T225605Z
LAST-MODIFIED:20210509T225605Z
UID:650-1628701200-1628712000@cheawcd.org
SUMMARY:DD Visit - Gilroy Lodge
DESCRIPTION:
URL:https://cheawcd.org/newsite/index.php/event/dd-visit-gilroy-lodge/
END:VEVENT
BEGIN:VEVENT
DTSTART;TZID=America/Denver:20210807T090000
DTEND;TZID=America/Denver:20210807T120000
DTSTAMP:20260420T224422
CREATED:20210521T205324Z
LAST-MODIFIED:20210521T205324Z
UID:679-1628326800-1628337600@cheawcd.org
SUMMARY:DD Clinic -- Hollister
DESCRIPTION:
URL:https://cheawcd.org/newsite/index.php/event/dd-clinic-hollister-5/
END:VEVENT
BEGIN:VEVENT
DTSTART;VALUE=DATE:20210723
DTEND;VALUE=DATE:20210726
DTSTAMP:20260420T224422
CREATED:20210403T200012Z
LAST-MODIFIED:20210403T200012Z
UID:633-1626998400-1627257599@cheawcd.org
SUMMARY:State President's Visit - Santa Cruz
DESCRIPTION:
URL:https://cheawcd.org/newsite/index.php/event/state-presidents-visit-santa-cruz/
END:VEVENT
BEGIN:VEVENT
DTSTART;VALUE=DATE:20210704
DTEND;VALUE=DATE:20210708
DTSTAMP:20260420T224422
CREATED:20210403T200603Z
LAST-MODIFIED:20210403T200603Z
UID:637-1625356800-1625702399@cheawcd.org
SUMMARY:Grand Lodge - Tampa
DESCRIPTION:
URL:https://cheawcd.org/newsite/index.php/event/grand-lodge-tampa/
END:VEVENT
BEGIN:VEVENT
DTSTART;TZID=America/Denver:20210630T173000
DTEND;TZID=America/Denver:20210630T190000
DTSTAMP:20260420T224422
CREATED:20210403T195834Z
LAST-MODIFIED:20210403T195834Z
UID:629-1625074200-1625079600@cheawcd.org
SUMMARY:AVP Visit - Gilroy
DESCRIPTION:
URL:https://cheawcd.org/newsite/index.php/event/avp-visit-gilroy/
END:VEVENT
BEGIN:VEVENT
DTSTART;TZID=America/Denver:20210623T173000
DTEND;TZID=America/Denver:20210623T190000
DTSTAMP:20260420T224422
CREATED:20210403T195815Z
LAST-MODIFIED:20210403T195815Z
UID:627-1624469400-1624474800@cheawcd.org
SUMMARY:AVP Visit - Monterey
DESCRIPTION:
URL:https://cheawcd.org/newsite/index.php/event/avp-visit-monterey/
END:VEVENT
BEGIN:VEVENT
DTSTART;TZID=America/Denver:20210617T173000
DTEND;TZID=America/Denver:20210617T190000
DTSTAMP:20260420T224422
CREATED:20210403T195752Z
LAST-MODIFIED:20210403T195752Z
UID:625-1623951000-1623956400@cheawcd.org
SUMMARY:AVP Visit - San Jose
DESCRIPTION:
URL:https://cheawcd.org/newsite/index.php/event/avp-visit-san-jose/
END:VEVENT
BEGIN:VEVENT
DTSTART;TZID=America/Denver:20210616T173000
DTEND;TZID=America/Denver:20210616T190000
DTSTAMP:20260420T224422
CREATED:20210403T195732Z
LAST-MODIFIED:20210403T195732Z
UID:623-1623864600-1623870000@cheawcd.org
SUMMARY:AVP Visit - Sunnyvale
DESCRIPTION:
URL:https://cheawcd.org/newsite/index.php/event/avp-visit-sunnyvale/
END:VEVENT
BEGIN:VEVENT
DTSTART;TZID=America/Denver:20210613T120000
DTEND;TZID=America/Denver:20210613T170000
DTSTAMP:20260420T224422
CREATED:20210510T185441Z
LAST-MODIFIED:20210510T190121Z
UID:674-1623585600-1623603600@cheawcd.org
SUMMARY:District PER Picnic @ Santa Clara Lodge
DESCRIPTION:
URL:https://cheawcd.org/newsite/index.php/event/district-per-picnic/
END:VEVENT
BEGIN:VEVENT
DTSTART;TZID=America/Denver:20210609T173000
DTEND;TZID=America/Denver:20210609T190000
DTSTAMP:20260420T224422
CREATED:20210403T195710Z
LAST-MODIFIED:20210403T195710Z
UID:621-1623259800-1623265200@cheawcd.org
SUMMARY:AVP Visit - Watsonville
DESCRIPTION:
URL:https://cheawcd.org/newsite/index.php/event/avp-visit-watsonville/
END:VEVENT
BEGIN:VEVENT
DTSTART;TZID=America/Denver:20210608T173000
DTEND;TZID=America/Denver:20210608T190000
DTSTAMP:20260420T224422
CREATED:20210403T195647Z
LAST-MODIFIED:20210403T195647Z
UID:619-1623173400-1623178800@cheawcd.org
SUMMARY:AVP Visit - Hollister
DESCRIPTION:
URL:https://cheawcd.org/newsite/index.php/event/avp-visit-hollister/
END:VEVENT
END:VCALENDAR