
BEGIN:VCALENDAR
VERSION:2.0
PRODID:-//CHEA West Central District - ECPv6.2.0//NONSGML v1.0//EN
CALSCALE:GREGORIAN
METHOD:PUBLISH
X-WR-CALNAME:CHEA West Central District
X-ORIGINAL-URL:https://cheawcd.org/newsite
X-WR-CALDESC:Events for CHEA West Central District
REFRESH-INTERVAL;VALUE=DURATION:PT1H
X-Robots-Tag:noindex
X-PUBLISHED-TTL:PT1H
BEGIN:VTIMEZONE
TZID:America/Denver
BEGIN:DAYLIGHT
TZOFFSETFROM:-0700
TZOFFSETTO:-0600
TZNAME:MDT
DTSTART:20190310T090000
END:DAYLIGHT
BEGIN:STANDARD
TZOFFSETFROM:-0600
TZOFFSETTO:-0700
TZNAME:MST
DTSTART:20191103T080000
END:STANDARD
BEGIN:DAYLIGHT
TZOFFSETFROM:-0700
TZOFFSETTO:-0600
TZNAME:MDT
DTSTART:20200308T090000
END:DAYLIGHT
BEGIN:STANDARD
TZOFFSETFROM:-0600
TZOFFSETTO:-0700
TZNAME:MST
DTSTART:20201101T080000
END:STANDARD
END:VTIMEZONE
BEGIN:VEVENT
DTSTART;TZID=America/Denver:20200812T160000
DTEND;TZID=America/Denver:20200812T200000
DTSTAMP:20260421T064104
CREATED:20200303T185022Z
LAST-MODIFIED:20200303T185022Z
UID:350-1597248000-1597262400@cheawcd.org
SUMMARY:DDGER Visit - Gilroy
DESCRIPTION:
URL:https://cheawcd.org/newsite/index.php/event/ddger-visit-gilroy/
END:VEVENT
BEGIN:VEVENT
DTSTART;TZID=America/Denver:20200808T090000
DTEND;TZID=America/Denver:20200808T120000
DTSTAMP:20260421T064104
CREATED:20200303T184952Z
LAST-MODIFIED:20200303T184952Z
UID:348-1596877200-1596888000@cheawcd.org
SUMMARY:DDGER Clinic - Hollister
DESCRIPTION:
URL:https://cheawcd.org/newsite/index.php/event/ddger-clinic-hollister/
END:VEVENT
BEGIN:VEVENT
DTSTART;VALUE=DATE:20200801
DTEND;VALUE=DATE:20200802
DTSTAMP:20260421T064104
CREATED:20200303T184918Z
LAST-MODIFIED:20200303T184918Z
UID:346-1596240000-1596326399@cheawcd.org
SUMMARY:WCD Caucus
DESCRIPTION:
URL:https://cheawcd.org/newsite/index.php/event/wcd-caucus/
END:VEVENT
BEGIN:VEVENT
DTSTART;VALUE=DATE:20200705
DTEND;VALUE=DATE:20200709
DTSTAMP:20260421T064104
CREATED:20200303T184748Z
LAST-MODIFIED:20200303T184748Z
UID:342-1593907200-1594252799@cheawcd.org
SUMMARY:Grand Lodge - Baltimore
DESCRIPTION:
URL:https://cheawcd.org/newsite/index.php/event/grand-lodge-baltimore/
END:VEVENT
BEGIN:VEVENT
DTSTART;TZID=America/Denver:20200418T090000
DTEND;TZID=America/Denver:20200418T120000
DTSTAMP:20260421T064104
CREATED:20190421T180944Z
LAST-MODIFIED:20190421T180944Z
UID:277-1587200400-1587211200@cheawcd.org
SUMMARY:DD Clinic - Hollister
DESCRIPTION:
URL:https://cheawcd.org/newsite/index.php/event/dd-clinic-hollister-4/
END:VEVENT
BEGIN:VEVENT
DTSTART;TZID=America/Denver:20200118T090000
DTEND;TZID=America/Denver:20200118T120000
DTSTAMP:20260421T064104
CREATED:20190421T180909Z
LAST-MODIFIED:20190421T180909Z
UID:275-1579338000-1579348800@cheawcd.org
SUMMARY:DD Clinic - Santa Cruz
DESCRIPTION:
URL:https://cheawcd.org/newsite/index.php/event/dd-clinic-santa-cruz-2/
END:VEVENT
BEGIN:VEVENT
DTSTART;TZID=America/Denver:20191101T080000
DTEND;TZID=America/Denver:20191102T170000
DTSTAMP:20260421T064104
CREATED:20190125T230107Z
LAST-MODIFIED:20190125T230107Z
UID:221-1572595200-1572714000@cheawcd.org
SUMMARY:Mid-term Convention -- Woodland/Sacramento
DESCRIPTION:
URL:https://cheawcd.org/newsite/index.php/event/mid-term-convention-woodlandsacramento/
END:VEVENT
BEGIN:VEVENT
DTSTART;TZID=America/Denver:20191026T160000
DTEND;TZID=America/Denver:20191026T200000
DTSTAMP:20260421T064104
CREATED:20190421T180743Z
LAST-MODIFIED:20190421T180743Z
UID:271-1572105600-1572120000@cheawcd.org
SUMMARY:DD Homecoming - Hollister
DESCRIPTION:
URL:https://cheawcd.org/newsite/index.php/event/dd-homecoming-hollister-2/
END:VEVENT
BEGIN:VEVENT
DTSTART;TZID=America/Denver:20191016T160000
DTEND;TZID=America/Denver:20191016T200000
DTSTAMP:20260421T064104
CREATED:20190421T180701Z
LAST-MODIFIED:20190421T180701Z
UID:269-1571241600-1571256000@cheawcd.org
SUMMARY:DD Visit - Watsonville
DESCRIPTION:
URL:https://cheawcd.org/newsite/index.php/event/dd-visit-watsonville/
END:VEVENT
BEGIN:VEVENT
DTSTART;TZID=America/Denver:20191009T160000
DTEND;TZID=America/Denver:20191009T200000
DTSTAMP:20260421T064104
CREATED:20190421T180632Z
LAST-MODIFIED:20190421T180632Z
UID:267-1570636800-1570651200@cheawcd.org
SUMMARY:DD Visit - Sunnyvale
DESCRIPTION:
URL:https://cheawcd.org/newsite/index.php/event/dd-visit-sunnyvale-3/
END:VEVENT
BEGIN:VEVENT
DTSTART;TZID=America/Denver:20191003T160000
DTEND;TZID=America/Denver:20191003T200000
DTSTAMP:20260421T064104
CREATED:20190421T180602Z
LAST-MODIFIED:20190421T180602Z
UID:265-1570118400-1570132800@cheawcd.org
SUMMARY:DD Visit - Santa Cruz
DESCRIPTION:
URL:https://cheawcd.org/newsite/index.php/event/dd-visit-santa-cruz-2/
END:VEVENT
BEGIN:VEVENT
DTSTART;TZID=America/Denver:20190925T160000
DTEND;TZID=America/Denver:20190925T200000
DTSTAMP:20260421T064104
CREATED:20190421T180536Z
LAST-MODIFIED:20190421T180536Z
UID:263-1569427200-1569441600@cheawcd.org
SUMMARY:DD Visit - Santa Clara
DESCRIPTION:
URL:https://cheawcd.org/newsite/index.php/event/dd-visit-santa-clara-2/
END:VEVENT
BEGIN:VEVENT
DTSTART;TZID=America/Denver:20190919T160000
DTEND;TZID=America/Denver:20190919T200000
DTSTAMP:20260421T064104
CREATED:20190421T180509Z
LAST-MODIFIED:20190421T180509Z
UID:261-1568908800-1568923200@cheawcd.org
SUMMARY:DD Visit - San Jose
DESCRIPTION:
URL:https://cheawcd.org/newsite/index.php/event/dd-visit-san-jose-2/
END:VEVENT
BEGIN:VEVENT
DTSTART;TZID=America/Denver:20190911T160000
DTEND;TZID=America/Denver:20190911T200000
DTSTAMP:20260421T064104
CREATED:20190421T180443Z
LAST-MODIFIED:20190421T180443Z
UID:259-1568217600-1568232000@cheawcd.org
SUMMARY:DD Visit - Salinas
DESCRIPTION:
URL:https://cheawcd.org/newsite/index.php/event/dd-visit-salinas-2/
END:VEVENT
BEGIN:VEVENT
DTSTART;TZID=America/Denver:20190905T160000
DTEND;TZID=America/Denver:20190905T200000
DTSTAMP:20260421T064104
CREATED:20190421T180416Z
LAST-MODIFIED:20190421T180416Z
UID:257-1567699200-1567713600@cheawcd.org
SUMMARY:DD Visit - Palo Alto
DESCRIPTION:
URL:https://cheawcd.org/newsite/index.php/event/dd-visit-palo-alto-2/
END:VEVENT
BEGIN:VEVENT
DTSTART;TZID=America/Denver:20190828T160000
DTEND;TZID=America/Denver:20190828T200000
DTSTAMP:20260421T064104
CREATED:20190421T180345Z
LAST-MODIFIED:20190421T180345Z
UID:255-1567008000-1567022400@cheawcd.org
SUMMARY:DD Visit - Monterey
DESCRIPTION:
URL:https://cheawcd.org/newsite/index.php/event/dd-visit-monterey-2/
END:VEVENT
BEGIN:VEVENT
DTSTART;TZID=America/Denver:20190820T160000
DTEND;TZID=America/Denver:20190820T200000
DTSTAMP:20260421T064104
CREATED:20190421T180316Z
LAST-MODIFIED:20190421T180316Z
UID:253-1566316800-1566331200@cheawcd.org
SUMMARY:DD Visit - Hollister
DESCRIPTION:
URL:https://cheawcd.org/newsite/index.php/event/dd-visit-hollister-2/
END:VEVENT
BEGIN:VEVENT
DTSTART;TZID=America/Denver:20190817T160000
DTEND;TZID=America/Denver:20190817T200000
DTSTAMP:20260421T064104
CREATED:20190421T181046Z
LAST-MODIFIED:20190621T181734Z
UID:279-1566057600-1566072000@cheawcd.org
SUMMARY:VP Homecoming - Gilroy
DESCRIPTION:
URL:https://cheawcd.org/newsite/index.php/event/vp-homecoming-gilroy/
END:VEVENT
BEGIN:VEVENT
DTSTART;TZID=America/Denver:20190814T160000
DTEND;TZID=America/Denver:20190814T200000
DTSTAMP:20260421T064104
CREATED:20190421T180243Z
LAST-MODIFIED:20190421T180243Z
UID:251-1565798400-1565812800@cheawcd.org
SUMMARY:DD Visit - Gilroy
DESCRIPTION:
URL:https://cheawcd.org/newsite/index.php/event/dd-visit-gilroy-2/
END:VEVENT
BEGIN:VEVENT
DTSTART;TZID=America/Denver:20190810T090000
DTEND;TZID=America/Denver:20190810T120000
DTSTAMP:20260421T064104
CREATED:20190421T180842Z
LAST-MODIFIED:20190805T202856Z
UID:273-1565427600-1565438400@cheawcd.org
SUMMARY:DD Clinic - Palo Alto
DESCRIPTION:
URL:https://cheawcd.org/newsite/index.php/event/dd-clinic-palo-alto-2/
END:VEVENT
BEGIN:VEVENT
DTSTART;TZID=America/Denver:20190721T080000
DTEND;TZID=America/Denver:20190721T120000
DTSTAMP:20260421T064104
CREATED:20190708T002006Z
LAST-MODIFIED:20190708T002058Z
UID:285-1563696000-1563710400@cheawcd.org
SUMMARY:State President's Visit (Breakfast) - San Jose
DESCRIPTION:
URL:https://cheawcd.org/newsite/index.php/event/state-presidents-visit-breakfast-san-jose/
END:VEVENT
BEGIN:VEVENT
DTSTART;TZID=America/Denver:20190720T173000
DTEND;TZID=America/Denver:20190720T210000
DTSTAMP:20260421T064104
CREATED:20190708T001909Z
LAST-MODIFIED:20190708T001909Z
UID:283-1563643800-1563656400@cheawcd.org
SUMMARY:State President's Visit - Hollister
DESCRIPTION:
URL:https://cheawcd.org/newsite/index.php/event/state-presidents-visit-hollister/
END:VEVENT
BEGIN:VEVENT
DTSTART;TZID=America/Denver:20190630T080000
DTEND;TZID=America/Denver:20190703T170000
DTSTAMP:20260421T064104
CREATED:20190125T225810Z
LAST-MODIFIED:20190125T225810Z
UID:215-1561881600-1562173200@cheawcd.org
SUMMARY:Grand Lodge -- St. Louis\, MO
DESCRIPTION:
URL:https://cheawcd.org/newsite/index.php/event/grand-lodge-st-louis-mo/
END:VEVENT
BEGIN:VEVENT
DTSTART;TZID=America/Denver:20190626T160000
DTEND;TZID=America/Denver:20190626T200000
DTSTAMP:20260421T064104
CREATED:20190421T175858Z
LAST-MODIFIED:20190421T175858Z
UID:235-1561564800-1561579200@cheawcd.org
SUMMARY:VP Visit - Monterey
DESCRIPTION:
URL:https://cheawcd.org/newsite/index.php/event/vp-visit-monterey-2/
END:VEVENT
BEGIN:VEVENT
DTSTART;TZID=America/Denver:20190620T160000
DTEND;TZID=America/Denver:20190620T200000
DTSTAMP:20260421T064104
CREATED:20190421T180021Z
LAST-MODIFIED:20190421T180021Z
UID:241-1561046400-1561060800@cheawcd.org
SUMMARY:VP Visit - San Jose
DESCRIPTION:
URL:https://cheawcd.org/newsite/index.php/event/vp-visit-san-jose-2/
END:VEVENT
BEGIN:VEVENT
DTSTART;TZID=America/Denver:20190619T160000
DTEND;TZID=America/Denver:20190619T200000
DTSTAMP:20260421T064104
CREATED:20190421T180138Z
LAST-MODIFIED:20190421T180138Z
UID:247-1560960000-1560974400@cheawcd.org
SUMMARY:VP Visit - Sunnyvale
DESCRIPTION:
URL:https://cheawcd.org/newsite/index.php/event/vp-visit-sunnyvale-2/
END:VEVENT
BEGIN:VEVENT
DTSTART;TZID=America/Denver:20190612T160000
DTEND;TZID=America/Denver:20190612T200000
DTSTAMP:20260421T064104
CREATED:20190421T180048Z
LAST-MODIFIED:20190421T180048Z
UID:243-1560355200-1560369600@cheawcd.org
SUMMARY:VP Visit - Santa Clara
DESCRIPTION:
URL:https://cheawcd.org/newsite/index.php/event/vp-visit-santa-clara-2/
END:VEVENT
BEGIN:VEVENT
DTSTART;TZID=America/Denver:20190611T160000
DTEND;TZID=America/Denver:20190611T200000
DTSTAMP:20260421T064104
CREATED:20190421T175825Z
LAST-MODIFIED:20190421T175825Z
UID:233-1560268800-1560283200@cheawcd.org
SUMMARY:VP Visit - Hollister
DESCRIPTION:
URL:https://cheawcd.org/newsite/index.php/event/vp-visit-hollister/
END:VEVENT
BEGIN:VEVENT
DTSTART;TZID=America/Denver:20190609T110000
DTEND;TZID=America/Denver:20190609T170000
DTSTAMP:20260421T064104
CREATED:20190123T214719Z
LAST-MODIFIED:20190123T214719Z
UID:212-1560078000-1560099600@cheawcd.org
SUMMARY:WCD Picnic @ Santa Clara
DESCRIPTION:
URL:https://cheawcd.org/newsite/index.php/event/wcd-picnic-santa-clara/
END:VEVENT
BEGIN:VEVENT
DTSTART;TZID=America/Denver:20190606T160000
DTEND;TZID=America/Denver:20190606T200000
DTSTAMP:20260421T064104
CREATED:20190421T175923Z
LAST-MODIFIED:20190421T175923Z
UID:237-1559836800-1559851200@cheawcd.org
SUMMARY:VP Visit - Palo Alto
DESCRIPTION:
URL:https://cheawcd.org/newsite/index.php/event/vp-visit-palo-alto-2/
END:VEVENT
END:VCALENDAR