
BEGIN:VCALENDAR
VERSION:2.0
PRODID:-//CHEA West Central District - ECPv6.2.0//NONSGML v1.0//EN
CALSCALE:GREGORIAN
METHOD:PUBLISH
X-ORIGINAL-URL:https://cheawcd.org/newsite
X-WR-CALDESC:Events for CHEA West Central District
REFRESH-INTERVAL;VALUE=DURATION:PT1H
X-Robots-Tag:noindex
X-PUBLISHED-TTL:PT1H
BEGIN:VTIMEZONE
TZID:America/Denver
BEGIN:DAYLIGHT
TZOFFSETFROM:-0700
TZOFFSETTO:-0600
TZNAME:MDT
DTSTART:20190310T090000
END:DAYLIGHT
BEGIN:STANDARD
TZOFFSETFROM:-0600
TZOFFSETTO:-0700
TZNAME:MST
DTSTART:20191103T080000
END:STANDARD
END:VTIMEZONE
BEGIN:VEVENT
DTSTART;TZID=America/Denver:20190721T080000
DTEND;TZID=America/Denver:20190721T120000
DTSTAMP:20260421T100042
CREATED:20190708T002006Z
LAST-MODIFIED:20190708T002058Z
UID:285-1563696000-1563710400@cheawcd.org
SUMMARY:State President's Visit (Breakfast) - San Jose
DESCRIPTION:
URL:https://cheawcd.org/newsite/index.php/event/state-presidents-visit-breakfast-san-jose/
END:VEVENT
BEGIN:VEVENT
DTSTART;TZID=America/Denver:20190720T173000
DTEND;TZID=America/Denver:20190720T210000
DTSTAMP:20260421T100042
CREATED:20190708T001909Z
LAST-MODIFIED:20190708T001909Z
UID:283-1563643800-1563656400@cheawcd.org
SUMMARY:State President's Visit - Hollister
DESCRIPTION:
URL:https://cheawcd.org/newsite/index.php/event/state-presidents-visit-hollister/
END:VEVENT
BEGIN:VEVENT
DTSTART;TZID=America/Denver:20190630T080000
DTEND;TZID=America/Denver:20190703T170000
DTSTAMP:20260421T100042
CREATED:20190125T225810Z
LAST-MODIFIED:20190125T225810Z
UID:215-1561881600-1562173200@cheawcd.org
SUMMARY:Grand Lodge -- St. Louis\, MO
DESCRIPTION:
URL:https://cheawcd.org/newsite/index.php/event/grand-lodge-st-louis-mo/
END:VEVENT
BEGIN:VEVENT
DTSTART;TZID=America/Denver:20190626T160000
DTEND;TZID=America/Denver:20190626T200000
DTSTAMP:20260421T100042
CREATED:20190421T175858Z
LAST-MODIFIED:20190421T175858Z
UID:235-1561564800-1561579200@cheawcd.org
SUMMARY:VP Visit - Monterey
DESCRIPTION:
URL:https://cheawcd.org/newsite/index.php/event/vp-visit-monterey-2/
END:VEVENT
BEGIN:VEVENT
DTSTART;TZID=America/Denver:20190620T160000
DTEND;TZID=America/Denver:20190620T200000
DTSTAMP:20260421T100042
CREATED:20190421T180021Z
LAST-MODIFIED:20190421T180021Z
UID:241-1561046400-1561060800@cheawcd.org
SUMMARY:VP Visit - San Jose
DESCRIPTION:
URL:https://cheawcd.org/newsite/index.php/event/vp-visit-san-jose-2/
END:VEVENT
BEGIN:VEVENT
DTSTART;TZID=America/Denver:20190619T160000
DTEND;TZID=America/Denver:20190619T200000
DTSTAMP:20260421T100042
CREATED:20190421T180138Z
LAST-MODIFIED:20190421T180138Z
UID:247-1560960000-1560974400@cheawcd.org
SUMMARY:VP Visit - Sunnyvale
DESCRIPTION:
URL:https://cheawcd.org/newsite/index.php/event/vp-visit-sunnyvale-2/
END:VEVENT
BEGIN:VEVENT
DTSTART;TZID=America/Denver:20190612T160000
DTEND;TZID=America/Denver:20190612T200000
DTSTAMP:20260421T100042
CREATED:20190421T180048Z
LAST-MODIFIED:20190421T180048Z
UID:243-1560355200-1560369600@cheawcd.org
SUMMARY:VP Visit - Santa Clara
DESCRIPTION:
URL:https://cheawcd.org/newsite/index.php/event/vp-visit-santa-clara-2/
END:VEVENT
BEGIN:VEVENT
DTSTART;TZID=America/Denver:20190611T160000
DTEND;TZID=America/Denver:20190611T200000
DTSTAMP:20260421T100042
CREATED:20190421T175825Z
LAST-MODIFIED:20190421T175825Z
UID:233-1560268800-1560283200@cheawcd.org
SUMMARY:VP Visit - Hollister
DESCRIPTION:
URL:https://cheawcd.org/newsite/index.php/event/vp-visit-hollister/
END:VEVENT
BEGIN:VEVENT
DTSTART;TZID=America/Denver:20190609T110000
DTEND;TZID=America/Denver:20190609T170000
DTSTAMP:20260421T100042
CREATED:20190123T214719Z
LAST-MODIFIED:20190123T214719Z
UID:212-1560078000-1560099600@cheawcd.org
SUMMARY:WCD Picnic @ Santa Clara
DESCRIPTION:
URL:https://cheawcd.org/newsite/index.php/event/wcd-picnic-santa-clara/
END:VEVENT
BEGIN:VEVENT
DTSTART;TZID=America/Denver:20190606T160000
DTEND;TZID=America/Denver:20190606T200000
DTSTAMP:20260421T100042
CREATED:20190421T175923Z
LAST-MODIFIED:20190421T175923Z
UID:237-1559836800-1559851200@cheawcd.org
SUMMARY:VP Visit - Palo Alto
DESCRIPTION:
URL:https://cheawcd.org/newsite/index.php/event/vp-visit-palo-alto-2/
END:VEVENT
BEGIN:VEVENT
DTSTART;TZID=America/Denver:20190605T160000
DTEND;TZID=America/Denver:20190605T200000
DTSTAMP:20260421T100042
CREATED:20190421T175755Z
LAST-MODIFIED:20190421T175755Z
UID:231-1559750400-1559764800@cheawcd.org
SUMMARY:VP Visit - Gilroy
DESCRIPTION:
URL:https://cheawcd.org/newsite/index.php/event/vp-visit-gilroy-2/
END:VEVENT
BEGIN:VEVENT
DTSTART;TZID=America/Denver:20190530T160000
DTEND;TZID=America/Denver:20190530T200000
DTSTAMP:20260421T100042
CREATED:20190421T180112Z
LAST-MODIFIED:20190421T180112Z
UID:245-1559232000-1559246400@cheawcd.org
SUMMARY:VP Visit - Santa Cruz
DESCRIPTION:
URL:https://cheawcd.org/newsite/index.php/event/vp-visit-santa-cruz-2/
END:VEVENT
BEGIN:VEVENT
DTSTART;TZID=America/Denver:20190529T160000
DTEND;TZID=America/Denver:20190529T200000
DTSTAMP:20260421T100042
CREATED:20190421T180203Z
LAST-MODIFIED:20190421T180203Z
UID:249-1559145600-1559160000@cheawcd.org
SUMMARY:VP Visit - Watsonville
DESCRIPTION:
URL:https://cheawcd.org/newsite/index.php/event/vp-visit-watsonville-2/
END:VEVENT
BEGIN:VEVENT
DTSTART;TZID=America/Denver:20190522T160000
DTEND;TZID=America/Denver:20190522T200000
DTSTAMP:20260421T100042
CREATED:20190421T175955Z
LAST-MODIFIED:20190421T175955Z
UID:239-1558540800-1558555200@cheawcd.org
SUMMARY:VP Visit - Salinas
DESCRIPTION:
URL:https://cheawcd.org/newsite/index.php/event/vp-visit-salinas-2/
END:VEVENT
BEGIN:VEVENT
DTSTART;TZID=America/Denver:20190515T080000
DTEND;TZID=America/Denver:20190518T170000
DTSTAMP:20260421T100042
CREATED:20190125T225949Z
LAST-MODIFIED:20190125T225949Z
UID:219-1557907200-1558198800@cheawcd.org
SUMMARY:State Convention -- Fresno/Clovis
DESCRIPTION:
URL:https://cheawcd.org/newsite/index.php/event/state-convention-fresnoclovis/
END:VEVENT
BEGIN:VEVENT
DTSTART;VALUE=DATE:20190426
DTEND;VALUE=DATE:20190428
DTSTAMP:20260421T100042
CREATED:20190123T214604Z
LAST-MODIFIED:20190123T214636Z
UID:209-1556236800-1556409599@cheawcd.org
SUMMARY:Ritual Contest @ Sunnyvale
DESCRIPTION:
URL:https://cheawcd.org/newsite/index.php/event/ritual-contest/
END:VEVENT
BEGIN:VEVENT
DTSTART;TZID=America/Denver:20190413T090000
DTEND;TZID=America/Denver:20190413T120000
DTSTAMP:20260421T100042
CREATED:20190125T225858Z
LAST-MODIFIED:20190125T225858Z
UID:217-1555146000-1555156800@cheawcd.org
SUMMARY:DD Clinic -- Hollister
DESCRIPTION:
URL:https://cheawcd.org/newsite/index.php/event/dd-clinic-hollister-3/
END:VEVENT
BEGIN:VEVENT
DTSTART;TZID=America/Denver:20190413T090000
DTEND;TZID=America/Denver:20190413T120000
DTSTAMP:20260421T100042
CREATED:20180527T155504Z
LAST-MODIFIED:20180527T155504Z
UID:180-1555146000-1555156800@cheawcd.org
SUMMARY:DD Clinic - Hollister
DESCRIPTION:
URL:https://cheawcd.org/newsite/index.php/event/dd-clinic-hollister-2/
END:VEVENT
BEGIN:VEVENT
DTSTART;TZID=America/Denver:20190407T140000
DTEND;TZID=America/Denver:20190407T170000
DTSTAMP:20260421T100042
CREATED:20190123T214105Z
LAST-MODIFIED:20190123T214531Z
UID:203-1554645600-1554656400@cheawcd.org
SUMMARY:Installation -- Santa Clara
DESCRIPTION:
URL:https://cheawcd.org/newsite/index.php/event/installation-santa-clara/
END:VEVENT
BEGIN:VEVENT
DTSTART;TZID=America/Denver:20190406T160000
DTEND;TZID=America/Denver:20190406T190000
DTSTAMP:20260421T100042
CREATED:20190123T214038Z
LAST-MODIFIED:20190123T214038Z
UID:201-1554566400-1554577200@cheawcd.org
SUMMARY:Installation -- San Jose
DESCRIPTION:
URL:https://cheawcd.org/newsite/index.php/event/installation-san-jose/
END:VEVENT
BEGIN:VEVENT
DTSTART;TZID=America/Denver:20190406T100000
DTEND;TZID=America/Denver:20190406T130000
DTSTAMP:20260421T100042
CREATED:20190123T214014Z
LAST-MODIFIED:20190123T214014Z
UID:199-1554544800-1554555600@cheawcd.org
SUMMARY:Installation -- Sunnyvale
DESCRIPTION:
URL:https://cheawcd.org/newsite/index.php/event/installation-sunnyvale/
END:VEVENT
BEGIN:VEVENT
DTSTART;TZID=America/Denver:20190331T110000
DTEND;TZID=America/Denver:20190331T140000
DTSTAMP:20260421T100042
CREATED:20190123T213943Z
LAST-MODIFIED:20190123T214437Z
UID:197-1554030000-1554040800@cheawcd.org
SUMMARY:Installation -- Palo Alto
DESCRIPTION:
URL:https://cheawcd.org/newsite/index.php/event/installation-palo-alto-2/
END:VEVENT
BEGIN:VEVENT
DTSTART;TZID=America/Denver:20190330T160000
DTEND;TZID=America/Denver:20190330T190000
DTSTAMP:20260421T100042
CREATED:20190123T214342Z
LAST-MODIFIED:20190123T214342Z
UID:207-1553961600-1553972400@cheawcd.org
SUMMARY:Installation -- Santa Cruz
DESCRIPTION:
URL:https://cheawcd.org/newsite/index.php/event/installation-santa-cruz/
END:VEVENT
BEGIN:VEVENT
DTSTART;TZID=America/Denver:20190324T100000
DTEND;TZID=America/Denver:20190324T130000
DTSTAMP:20260421T100042
CREATED:20190123T213435Z
LAST-MODIFIED:20190123T213904Z
UID:193-1553421600-1553432400@cheawcd.org
SUMMARY:Installation -- Gilroy
DESCRIPTION:
URL:https://cheawcd.org/newsite/index.php/event/installation-gilroy/
END:VEVENT
BEGIN:VEVENT
DTSTART;TZID=America/Denver:20190323T160000
DTEND;TZID=America/Denver:20190323T190000
DTSTAMP:20260421T100042
CREATED:20190123T213411Z
LAST-MODIFIED:20190123T213832Z
UID:191-1553356800-1553367600@cheawcd.org
SUMMARY:Installation -- Watsonville
DESCRIPTION:
URL:https://cheawcd.org/newsite/index.php/event/installation-watsonville/
END:VEVENT
BEGIN:VEVENT
DTSTART;TZID=America/Denver:20190323T100000
DTEND;TZID=America/Denver:20190323T130000
DTSTAMP:20260421T100042
CREATED:20190123T213345Z
LAST-MODIFIED:20190123T213757Z
UID:189-1553335200-1553346000@cheawcd.org
SUMMARY:Installation -- Hollister
DESCRIPTION:
URL:https://cheawcd.org/newsite/index.php/event/installation-hollister/
END:VEVENT
BEGIN:VEVENT
DTSTART;TZID=America/Denver:20190316T160000
DTEND;TZID=America/Denver:20190316T190000
DTSTAMP:20260421T100042
CREATED:20190123T213321Z
LAST-MODIFIED:20190123T213716Z
UID:187-1552752000-1552762800@cheawcd.org
SUMMARY:Installation -- Salinas
DESCRIPTION:
URL:https://cheawcd.org/newsite/index.php/event/installation-salinas/
END:VEVENT
BEGIN:VEVENT
DTSTART;TZID=America/Denver:20190316T100000
DTEND;TZID=America/Denver:20190316T130000
DTSTAMP:20260421T100042
CREATED:20190123T213252Z
LAST-MODIFIED:20190123T213636Z
UID:185-1552730400-1552741200@cheawcd.org
SUMMARY:Installation -- Montery
DESCRIPTION:
URL:https://cheawcd.org/newsite/index.php/event/installation-montery/
END:VEVENT
BEGIN:VEVENT
DTSTART;TZID=America/Denver:20190303T130000
DTEND;TZID=America/Denver:20190303T150000
DTSTAMP:20260421T100042
CREATED:20190123T214152Z
LAST-MODIFIED:20190302T222356Z
UID:205-1551618000-1551625200@cheawcd.org
SUMMARY:Captain's Meeting -- Lynn & Kyle's House
DESCRIPTION:
URL:https://cheawcd.org/newsite/index.php/event/captains-meeting-location-tbd/
LOCATION:266 elk st.\, santa cruz\, CA\, 95065\, United States
END:VEVENT
BEGIN:VEVENT
DTSTART;TZID=America/Denver:20190119T090000
DTEND;TZID=America/Denver:20190119T120000
DTSTAMP:20260421T100042
CREATED:20180527T155433Z
LAST-MODIFIED:20180527T155433Z
UID:178-1547888400-1547899200@cheawcd.org
SUMMARY:DD Clinic - Santa Cruz
DESCRIPTION:
URL:https://cheawcd.org/newsite/index.php/event/dd-clinic-santa-cruz/
END:VEVENT
END:VCALENDAR