
BEGIN:VCALENDAR
VERSION:2.0
PRODID:-//CHEA West Central District - ECPv6.2.0//NONSGML v1.0//EN
CALSCALE:GREGORIAN
METHOD:PUBLISH
X-WR-CALNAME:CHEA West Central District
X-ORIGINAL-URL:https://cheawcd.org/newsite
X-WR-CALDESC:Events for CHEA West Central District
REFRESH-INTERVAL;VALUE=DURATION:PT1H
X-Robots-Tag:noindex
X-PUBLISHED-TTL:PT1H
BEGIN:VTIMEZONE
TZID:UTC
BEGIN:STANDARD
TZOFFSETFROM:+0000
TZOFFSETTO:+0000
TZNAME:UTC
DTSTART:20180101T000000
END:STANDARD
TZID:America/Denver
BEGIN:DAYLIGHT
TZOFFSETFROM:-0700
TZOFFSETTO:-0600
TZNAME:MDT
DTSTART:20180311T090000
END:DAYLIGHT
BEGIN:STANDARD
TZOFFSETFROM:-0600
TZOFFSETTO:-0700
TZNAME:MST
DTSTART:20181104T080000
END:STANDARD
END:VTIMEZONE
BEGIN:VEVENT
DTSTART;VALUE=DATE:20181114
DTEND;VALUE=DATE:20181115
DTSTAMP:20260421T151615
CREATED:20180217T015804Z
LAST-MODIFIED:20180217T015804Z
UID:149-1542153600-1542239999@cheawcd.org
SUMMARY:Ed Lane Golf - Wente
DESCRIPTION:
URL:https://cheawcd.org/newsite/index.php/event/ed-lane-golf-wente/
END:VEVENT
BEGIN:VEVENT
DTSTART;VALUE=DATE:20181102
DTEND;VALUE=DATE:20181104
DTSTAMP:20260421T151615
CREATED:20171109T084127Z
LAST-MODIFIED:20171109T084127Z
UID:78-1541116800-1541289599@cheawcd.org
SUMMARY:Midterm Conference - Modesto
DESCRIPTION:
URL:https://cheawcd.org/newsite/index.php/event/midterm-conference-modesto/
END:VEVENT
BEGIN:VEVENT
DTSTART;VALUE=DATE:20181101
DTEND;VALUE=DATE:20181102
DTSTAMP:20260421T151615
CREATED:20180217T015739Z
LAST-MODIFIED:20180217T015739Z
UID:147-1541030400-1541116799@cheawcd.org
SUMMARY:Ed Lane Golf - Poppy Hills
DESCRIPTION:
URL:https://cheawcd.org/newsite/index.php/event/ed-lane-golf-poppy-hills/
END:VEVENT
BEGIN:VEVENT
DTSTART;TZID=America/Denver:20181027T170000
DTEND;TZID=America/Denver:20181027T210000
DTSTAMP:20260421T151615
CREATED:20180527T155048Z
LAST-MODIFIED:20180527T155048Z
UID:171-1540659600-1540674000@cheawcd.org
SUMMARY:DD Homecoming - Hollister
DESCRIPTION:
URL:https://cheawcd.org/newsite/index.php/event/dd-homecoming-hollister/
END:VEVENT
BEGIN:VEVENT
DTSTART;TZID=America/Denver:20181020T090000
DTEND;TZID=America/Denver:20181020T120000
DTSTAMP:20260421T151615
CREATED:20180527T155557Z
LAST-MODIFIED:20180527T155557Z
UID:182-1540026000-1540036800@cheawcd.org
SUMMARY:Esteemed Leading/Loyal/Trustees Clinic - Santa Clara
DESCRIPTION:
URL:https://cheawcd.org/newsite/index.php/event/esteemed-leadingloyaltrustees-clinic-santa-clara/
END:VEVENT
BEGIN:VEVENT
DTSTART;VALUE=DATE:20181020
DTEND;VALUE=DATE:20181021
DTSTAMP:20260421T151615
CREATED:20180217T015711Z
LAST-MODIFIED:20180217T015711Z
UID:145-1539993600-1540079999@cheawcd.org
SUMMARY:Ed Lane Golf - Pajaro Valley
DESCRIPTION:
URL:https://cheawcd.org/newsite/index.php/event/ed-lane-golf-pajaro-valley/
END:VEVENT
BEGIN:VEVENT
DTSTART;TZID=America/Denver:20181017T170000
DTEND;TZID=America/Denver:20181017T210000
DTSTAMP:20260421T151615
CREATED:20180527T154946Z
LAST-MODIFIED:20180527T155013Z
UID:168-1539795600-1539810000@cheawcd.org
SUMMARY:DD Visit - Watsonville
DESCRIPTION:
URL:https://cheawcd.org/newsite/index.php/event/dd-visit-sunnyvale/
END:VEVENT
BEGIN:VEVENT
DTSTART;TZID=America/Denver:20181010T170000
DTEND;TZID=America/Denver:20181010T210000
DTSTAMP:20260421T151615
CREATED:20180527T155246Z
LAST-MODIFIED:20180527T155246Z
UID:173-1539190800-1539205200@cheawcd.org
SUMMARY:DD Visit - Sunnyvale
DESCRIPTION:
URL:https://cheawcd.org/newsite/index.php/event/dd-visit-sunnyvale-2/
END:VEVENT
BEGIN:VEVENT
DTSTART;TZID=America/Denver:20181004T170000
DTEND;TZID=America/Denver:20181004T210000
DTSTAMP:20260421T151615
CREATED:20180527T154904Z
LAST-MODIFIED:20180527T154904Z
UID:166-1538672400-1538686800@cheawcd.org
SUMMARY:DD Visit - Santa Cruz
DESCRIPTION:
URL:https://cheawcd.org/newsite/index.php/event/dd-visit-santa-cruz/
END:VEVENT
BEGIN:VEVENT
DTSTART;VALUE=DATE:20181002
DTEND;VALUE=DATE:20181003
DTSTAMP:20260421T151615
CREATED:20180217T015643Z
LAST-MODIFIED:20180217T015643Z
UID:143-1538438400-1538524799@cheawcd.org
SUMMARY:Ed Lane Golf - Poppy Ridge
DESCRIPTION:
URL:https://cheawcd.org/newsite/index.php/event/ed-lane-golf-poppy-ridge-2/
END:VEVENT
BEGIN:VEVENT
DTSTART;TZID=America/Denver:20180926T170000
DTEND;TZID=America/Denver:20180926T210000
DTSTAMP:20260421T151615
CREATED:20180527T154824Z
LAST-MODIFIED:20180527T154824Z
UID:164-1537981200-1537995600@cheawcd.org
SUMMARY:DD Visit - Santa Clara
DESCRIPTION:
URL:https://cheawcd.org/newsite/index.php/event/dd-visit-santa-clara/
END:VEVENT
BEGIN:VEVENT
DTSTART;TZID=America/Denver:20180920T170000
DTEND;TZID=America/Denver:20180920T210000
DTSTAMP:20260421T151615
CREATED:20180527T154749Z
LAST-MODIFIED:20180527T154749Z
UID:162-1537462800-1537477200@cheawcd.org
SUMMARY:DD Visit - San Jose
DESCRIPTION:
URL:https://cheawcd.org/newsite/index.php/event/dd-visit-san-jose/
END:VEVENT
BEGIN:VEVENT
DTSTART;VALUE=DATE:20180920
DTEND;VALUE=DATE:20180921
DTSTAMP:20260421T151615
CREATED:20180217T015614Z
LAST-MODIFIED:20180217T015614Z
UID:141-1537401600-1537487999@cheawcd.org
SUMMARY:Ed Lane Golf - San Juan Oaks
DESCRIPTION:
URL:https://cheawcd.org/newsite/index.php/event/ed-lane-golf-san-juan-oaks/
END:VEVENT
BEGIN:VEVENT
DTSTART;TZID=America/Denver:20180912T170000
DTEND;TZID=America/Denver:20180912T210000
DTSTAMP:20260421T151615
CREATED:20180527T154706Z
LAST-MODIFIED:20180527T154706Z
UID:160-1536771600-1536786000@cheawcd.org
SUMMARY:DD Visit - Salinas
DESCRIPTION:
URL:https://cheawcd.org/newsite/index.php/event/dd-visit-salinas/
END:VEVENT
BEGIN:VEVENT
DTSTART;VALUE=DATE:20180911
DTEND;VALUE=DATE:20180912
DTSTAMP:20260421T151615
CREATED:20180217T015547Z
LAST-MODIFIED:20180217T015547Z
UID:139-1536624000-1536710399@cheawcd.org
SUMMARY:Ed Lane Golf - Pacific Grove
DESCRIPTION:
URL:https://cheawcd.org/newsite/index.php/event/ed-lane-golf-pacific-grove/
END:VEVENT
BEGIN:VEVENT
DTSTART;TZID=America/Denver:20180906T170000
DTEND;TZID=America/Denver:20180906T210000
DTSTAMP:20260421T151615
CREATED:20180527T154631Z
LAST-MODIFIED:20180527T154631Z
UID:158-1536253200-1536267600@cheawcd.org
SUMMARY:DD Visit - Palo Alto
DESCRIPTION:
URL:https://cheawcd.org/newsite/index.php/event/dd-visit-palo-alto/
END:VEVENT
BEGIN:VEVENT
DTSTART;TZID=America/Denver:20180829T170000
DTEND;TZID=America/Denver:20180829T210000
DTSTAMP:20260421T151615
CREATED:20180527T154555Z
LAST-MODIFIED:20180527T154555Z
UID:156-1535562000-1535576400@cheawcd.org
SUMMARY:DD Visit - Monterey
DESCRIPTION:
URL:https://cheawcd.org/newsite/index.php/event/dd-visit-monterey/
END:VEVENT
BEGIN:VEVENT
DTSTART;VALUE=DATE:20180825
DTEND;VALUE=DATE:20180826
DTSTAMP:20260421T151615
CREATED:20180217T015524Z
LAST-MODIFIED:20180217T015524Z
UID:137-1535155200-1535241599@cheawcd.org
SUMMARY:Ed Lane Golf - Laguna Seca
DESCRIPTION:
URL:https://cheawcd.org/newsite/index.php/event/ed-lane-golf-laguna-seca/
END:VEVENT
BEGIN:VEVENT
DTSTART;TZID=America/Denver:20180821T170000
DTEND;TZID=America/Denver:20180821T210000
DTSTAMP:20260421T151615
CREATED:20180527T154517Z
LAST-MODIFIED:20180527T154517Z
UID:154-1534870800-1534885200@cheawcd.org
SUMMARY:DD Visit - Hollister
DESCRIPTION:
URL:https://cheawcd.org/newsite/index.php/event/dd-visit-hollister/
END:VEVENT
BEGIN:VEVENT
DTSTART;TZID=America/Denver:20180815T170000
DTEND;TZID=America/Denver:20180815T210000
DTSTAMP:20260421T151615
CREATED:20180527T154432Z
LAST-MODIFIED:20180527T154432Z
UID:152-1534352400-1534366800@cheawcd.org
SUMMARY:DD Visit - Gilroy
DESCRIPTION:
URL:https://cheawcd.org/newsite/index.php/event/dd-visit-gilroy/
END:VEVENT
BEGIN:VEVENT
DTSTART;TZID=America/Denver:20180811T090000
DTEND;TZID=America/Denver:20180811T120000
DTSTAMP:20260421T151615
CREATED:20180527T155400Z
LAST-MODIFIED:20180527T155400Z
UID:176-1533978000-1533988800@cheawcd.org
SUMMARY:DD Clinic - Palo Alto
DESCRIPTION:
URL:https://cheawcd.org/newsite/index.php/event/dd-clinic-palo-alto/
END:VEVENT
BEGIN:VEVENT
DTSTART;VALUE=DATE:20180807
DTEND;VALUE=DATE:20180808
DTSTAMP:20260421T151615
CREATED:20180217T015457Z
LAST-MODIFIED:20180217T015457Z
UID:135-1533600000-1533686399@cheawcd.org
SUMMARY:Ed Lane Golf - Crazy Horse
DESCRIPTION:
URL:https://cheawcd.org/newsite/index.php/event/ed-lane-golf-crazy-horse/
END:VEVENT
BEGIN:VEVENT
DTSTART;TZID=UTC:20180728T170000
DTEND;TZID=UTC:20180728T200000
DTSTAMP:20260421T151615
CREATED:20180204T005242Z
LAST-MODIFIED:20180204T005242Z
UID:113-1532797200-1532808000@cheawcd.org
SUMMARY:VP Homecoming
DESCRIPTION:
URL:https://cheawcd.org/newsite/index.php/event/vp-homecoming/
END:VEVENT
BEGIN:VEVENT
DTSTART;VALUE=DATE:20180726
DTEND;VALUE=DATE:20180727
DTSTAMP:20260421T151615
CREATED:20180217T015428Z
LAST-MODIFIED:20180217T015428Z
UID:133-1532563200-1532649599@cheawcd.org
SUMMARY:Ed Lane Golf - Del Monte
DESCRIPTION:
URL:https://cheawcd.org/newsite/index.php/event/ed-lane-golf-del-monte/
END:VEVENT
BEGIN:VEVENT
DTSTART;VALUE=DATE:20180719
DTEND;VALUE=DATE:20180723
DTSTAMP:20260421T151615
CREATED:20180204T005213Z
LAST-MODIFIED:20180204T005213Z
UID:111-1531958400-1532303999@cheawcd.org
SUMMARY:President's Visit
DESCRIPTION:
URL:https://cheawcd.org/newsite/index.php/event/presidents-visit/
END:VEVENT
BEGIN:VEVENT
DTSTART;VALUE=DATE:20180714
DTEND;VALUE=DATE:20180715
DTSTAMP:20260421T151615
CREATED:20180217T015359Z
LAST-MODIFIED:20180217T015359Z
UID:131-1531526400-1531612799@cheawcd.org
SUMMARY:Ed Lane Golf - Spring Hills
DESCRIPTION:
URL:https://cheawcd.org/newsite/index.php/event/ed-lane-golf-spring-hills/
END:VEVENT
BEGIN:VEVENT
DTSTART;VALUE=DATE:20180701
DTEND;VALUE=DATE:20180705
DTSTAMP:20260421T151615
CREATED:20171109T011530Z
LAST-MODIFIED:20171109T012556Z
UID:40-1530403200-1530748799@cheawcd.org
SUMMARY:Grand Lodge - San Antonio\, TX
DESCRIPTION:
URL:https://cheawcd.org/newsite/index.php/event/grand-lodge-san-antonio-tx/
END:VEVENT
BEGIN:VEVENT
DTSTART;TZID=UTC:20180627T170000
DTEND;TZID=UTC:20180627T200000
DTSTAMP:20260421T151615
CREATED:20180204T005126Z
LAST-MODIFIED:20180204T005126Z
UID:109-1530118800-1530129600@cheawcd.org
SUMMARY:VP Visit - Salinas
DESCRIPTION:
URL:https://cheawcd.org/newsite/index.php/event/vp-visit-salinas/
END:VEVENT
BEGIN:VEVENT
DTSTART;VALUE=DATE:20180622
DTEND;VALUE=DATE:20180623
DTSTAMP:20260421T151615
CREATED:20180217T015334Z
LAST-MODIFIED:20180217T015334Z
UID:129-1529625600-1529711999@cheawcd.org
SUMMARY:Ed Lane Golf - Villages
DESCRIPTION:
URL:https://cheawcd.org/newsite/index.php/event/ed-lane-golf-villages/
END:VEVENT
BEGIN:VEVENT
DTSTART;TZID=UTC:20180620T170000
DTEND;TZID=UTC:20180620T200000
DTSTAMP:20260421T151615
CREATED:20180204T005029Z
LAST-MODIFIED:20180204T005029Z
UID:105-1529514000-1529524800@cheawcd.org
SUMMARY:VP Visit - Monterey
DESCRIPTION:
URL:https://cheawcd.org/newsite/index.php/event/vp-visit-monterey/
END:VEVENT
END:VCALENDAR