
BEGIN:VCALENDAR
VERSION:2.0
PRODID:-//CHEA West Central District - ECPv6.2.0//NONSGML v1.0//EN
CALSCALE:GREGORIAN
METHOD:PUBLISH
X-ORIGINAL-URL:https://cheawcd.org/newsite
X-WR-CALDESC:Events for CHEA West Central District
REFRESH-INTERVAL;VALUE=DURATION:PT1H
X-Robots-Tag:noindex
X-PUBLISHED-TTL:PT1H
BEGIN:VTIMEZONE
TZID:America/Denver
BEGIN:DAYLIGHT
TZOFFSETFROM:-0700
TZOFFSETTO:-0600
TZNAME:MDT
DTSTART:20180311T090000
END:DAYLIGHT
BEGIN:STANDARD
TZOFFSETFROM:-0600
TZOFFSETTO:-0700
TZNAME:MST
DTSTART:20181104T080000
END:STANDARD
TZID:UTC
BEGIN:STANDARD
TZOFFSETFROM:+0000
TZOFFSETTO:+0000
TZNAME:UTC
DTSTART:20180101T000000
END:STANDARD
END:VTIMEZONE
BEGIN:VEVENT
DTSTART;TZID=America/Denver:20180811T090000
DTEND;TZID=America/Denver:20180811T120000
DTSTAMP:20260421T184443
CREATED:20180527T155400Z
LAST-MODIFIED:20180527T155400Z
UID:176-1533978000-1533988800@cheawcd.org
SUMMARY:DD Clinic - Palo Alto
DESCRIPTION:
URL:https://cheawcd.org/newsite/index.php/event/dd-clinic-palo-alto/
END:VEVENT
BEGIN:VEVENT
DTSTART;VALUE=DATE:20180807
DTEND;VALUE=DATE:20180808
DTSTAMP:20260421T184443
CREATED:20180217T015457Z
LAST-MODIFIED:20180217T015457Z
UID:135-1533600000-1533686399@cheawcd.org
SUMMARY:Ed Lane Golf - Crazy Horse
DESCRIPTION:
URL:https://cheawcd.org/newsite/index.php/event/ed-lane-golf-crazy-horse/
END:VEVENT
BEGIN:VEVENT
DTSTART;TZID=UTC:20180728T170000
DTEND;TZID=UTC:20180728T200000
DTSTAMP:20260421T184443
CREATED:20180204T005242Z
LAST-MODIFIED:20180204T005242Z
UID:113-1532797200-1532808000@cheawcd.org
SUMMARY:VP Homecoming
DESCRIPTION:
URL:https://cheawcd.org/newsite/index.php/event/vp-homecoming/
END:VEVENT
BEGIN:VEVENT
DTSTART;VALUE=DATE:20180726
DTEND;VALUE=DATE:20180727
DTSTAMP:20260421T184443
CREATED:20180217T015428Z
LAST-MODIFIED:20180217T015428Z
UID:133-1532563200-1532649599@cheawcd.org
SUMMARY:Ed Lane Golf - Del Monte
DESCRIPTION:
URL:https://cheawcd.org/newsite/index.php/event/ed-lane-golf-del-monte/
END:VEVENT
BEGIN:VEVENT
DTSTART;VALUE=DATE:20180719
DTEND;VALUE=DATE:20180723
DTSTAMP:20260421T184443
CREATED:20180204T005213Z
LAST-MODIFIED:20180204T005213Z
UID:111-1531958400-1532303999@cheawcd.org
SUMMARY:President's Visit
DESCRIPTION:
URL:https://cheawcd.org/newsite/index.php/event/presidents-visit/
END:VEVENT
BEGIN:VEVENT
DTSTART;VALUE=DATE:20180714
DTEND;VALUE=DATE:20180715
DTSTAMP:20260421T184443
CREATED:20180217T015359Z
LAST-MODIFIED:20180217T015359Z
UID:131-1531526400-1531612799@cheawcd.org
SUMMARY:Ed Lane Golf - Spring Hills
DESCRIPTION:
URL:https://cheawcd.org/newsite/index.php/event/ed-lane-golf-spring-hills/
END:VEVENT
BEGIN:VEVENT
DTSTART;VALUE=DATE:20180701
DTEND;VALUE=DATE:20180705
DTSTAMP:20260421T184443
CREATED:20171109T011530Z
LAST-MODIFIED:20171109T012556Z
UID:40-1530403200-1530748799@cheawcd.org
SUMMARY:Grand Lodge - San Antonio\, TX
DESCRIPTION:
URL:https://cheawcd.org/newsite/index.php/event/grand-lodge-san-antonio-tx/
END:VEVENT
BEGIN:VEVENT
DTSTART;TZID=UTC:20180627T170000
DTEND;TZID=UTC:20180627T200000
DTSTAMP:20260421T184443
CREATED:20180204T005126Z
LAST-MODIFIED:20180204T005126Z
UID:109-1530118800-1530129600@cheawcd.org
SUMMARY:VP Visit - Salinas
DESCRIPTION:
URL:https://cheawcd.org/newsite/index.php/event/vp-visit-salinas/
END:VEVENT
BEGIN:VEVENT
DTSTART;VALUE=DATE:20180622
DTEND;VALUE=DATE:20180623
DTSTAMP:20260421T184443
CREATED:20180217T015334Z
LAST-MODIFIED:20180217T015334Z
UID:129-1529625600-1529711999@cheawcd.org
SUMMARY:Ed Lane Golf - Villages
DESCRIPTION:
URL:https://cheawcd.org/newsite/index.php/event/ed-lane-golf-villages/
END:VEVENT
BEGIN:VEVENT
DTSTART;TZID=UTC:20180620T170000
DTEND;TZID=UTC:20180620T200000
DTSTAMP:20260421T184443
CREATED:20180204T005029Z
LAST-MODIFIED:20180204T005029Z
UID:105-1529514000-1529524800@cheawcd.org
SUMMARY:VP Visit - Monterey
DESCRIPTION:
URL:https://cheawcd.org/newsite/index.php/event/vp-visit-monterey/
END:VEVENT
BEGIN:VEVENT
DTSTART;TZID=UTC:20180613T170000
DTEND;TZID=UTC:20180613T200000
DTSTAMP:20260421T184443
CREATED:20180204T005000Z
LAST-MODIFIED:20180204T005000Z
UID:103-1528909200-1528920000@cheawcd.org
SUMMARY:VP Visit - Santa Clara
DESCRIPTION:
URL:https://cheawcd.org/newsite/index.php/event/vp-visit-santa-clara/
END:VEVENT
BEGIN:VEVENT
DTSTART;VALUE=DATE:20180613
DTEND;VALUE=DATE:20180614
DTSTAMP:20260421T184443
CREATED:20180217T015311Z
LAST-MODIFIED:20180217T015311Z
UID:127-1528848000-1528934399@cheawcd.org
SUMMARY:Ed Lane Golf - Coyote Creek
DESCRIPTION:
URL:https://cheawcd.org/newsite/index.php/event/ed-lane-golf-coyote-creek/
END:VEVENT
BEGIN:VEVENT
DTSTART;TZID=UTC:20180612T170000
DTEND;TZID=UTC:20180612T200000
DTSTAMP:20260421T184443
CREATED:20180204T005059Z
LAST-MODIFIED:20180217T014937Z
UID:107-1528822800-1528833600@cheawcd.org
SUMMARY:VP Visit - Palo Alto
DESCRIPTION:
URL:https://cheawcd.org/newsite/index.php/event/vp-visit-palo-alto/
END:VEVENT
BEGIN:VEVENT
DTSTART;TZID=UTC:20180607T170000
DTEND;TZID=UTC:20180607T200000
DTSTAMP:20260421T184443
CREATED:20180204T004932Z
LAST-MODIFIED:20180204T004932Z
UID:101-1528390800-1528401600@cheawcd.org
SUMMARY:VP Visit - San Jose
DESCRIPTION:
URL:https://cheawcd.org/newsite/index.php/event/vp-visit-san-jose/
END:VEVENT
BEGIN:VEVENT
DTSTART;TZID=UTC:20180606T170000
DTEND;TZID=UTC:20180606T200000
DTSTAMP:20260421T184443
CREATED:20180204T004858Z
LAST-MODIFIED:20180204T004858Z
UID:99-1528304400-1528315200@cheawcd.org
SUMMARY:VP Visit - Gilroy
DESCRIPTION:
URL:https://cheawcd.org/newsite/index.php/event/vp-visit-gilroy/
END:VEVENT
BEGIN:VEVENT
DTSTART;TZID=UTC:20180531T170000
DTEND;TZID=UTC:20180531T200000
DTSTAMP:20260421T184443
CREATED:20180204T004830Z
LAST-MODIFIED:20180204T004830Z
UID:97-1527786000-1527796800@cheawcd.org
SUMMARY:VP Visit - Santa Cruz
DESCRIPTION:
URL:https://cheawcd.org/newsite/index.php/event/vp-visit-santa-cruz/
END:VEVENT
BEGIN:VEVENT
DTSTART;TZID=UTC:20180530T170000
DTEND;TZID=UTC:20180530T200000
DTSTAMP:20260421T184443
CREATED:20180204T004805Z
LAST-MODIFIED:20180204T004805Z
UID:95-1527699600-1527710400@cheawcd.org
SUMMARY:VP Visit - Sunnyvale
DESCRIPTION:
URL:https://cheawcd.org/newsite/index.php/event/vp-visit-sunnyvale/
END:VEVENT
BEGIN:VEVENT
DTSTART;VALUE=DATE:20180529
DTEND;VALUE=DATE:20180530
DTSTAMP:20260421T184443
CREATED:20180217T015246Z
LAST-MODIFIED:20180217T015246Z
UID:125-1527552000-1527638399@cheawcd.org
SUMMARY:Ed Lane Golf - Carmel Valley Ranch
DESCRIPTION:
URL:https://cheawcd.org/newsite/index.php/event/ed-lane-golf-carmel-valley-ranch/
END:VEVENT
BEGIN:VEVENT
DTSTART;TZID=UTC:20180523T170000
DTEND;TZID=UTC:20180523T200000
DTSTAMP:20260421T184443
CREATED:20180204T004734Z
LAST-MODIFIED:20180204T004734Z
UID:93-1527094800-1527105600@cheawcd.org
SUMMARY:VP Visit - Watsonville
DESCRIPTION:
URL:https://cheawcd.org/newsite/index.php/event/vp-visit-watsonville/
END:VEVENT
BEGIN:VEVENT
DTSTART;TZID=UTC:20180522T170000
DTEND;TZID=UTC:20180522T200000
DTSTAMP:20260421T184443
CREATED:20180204T004648Z
LAST-MODIFIED:20180204T005334Z
UID:91-1527008400-1527019200@cheawcd.org
SUMMARY:VP Visit - Hollister
DESCRIPTION:
URL:https://cheawcd.org/newsite/index.php/event/hollister-vp-visit/
END:VEVENT
BEGIN:VEVENT
DTSTART;VALUE=DATE:20180516
DTEND;VALUE=DATE:20180520
DTSTAMP:20260421T184443
CREATED:20171109T011442Z
LAST-MODIFIED:20171109T012640Z
UID:38-1526428800-1526774399@cheawcd.org
SUMMARY:State Convention - San Diego
DESCRIPTION:
URL:https://cheawcd.org/newsite/index.php/event/state-convention-san-diego/
END:VEVENT
BEGIN:VEVENT
DTSTART;VALUE=DATE:20180508
DTEND;VALUE=DATE:20180509
DTSTAMP:20260421T184443
CREATED:20180217T015221Z
LAST-MODIFIED:20180217T015221Z
UID:123-1525737600-1525823999@cheawcd.org
SUMMARY:Ed Lane Golf - Poppy Ridge
DESCRIPTION:
URL:https://cheawcd.org/newsite/index.php/event/ed-lane-golf-poppy-ridge/
END:VEVENT
BEGIN:VEVENT
DTSTART;VALUE=DATE:20180504
DTEND;VALUE=DATE:20180506
DTSTAMP:20260421T184443
CREATED:20171109T084403Z
LAST-MODIFIED:20171109T084403Z
UID:84-1525392000-1525564799@cheawcd.org
SUMMARY:WCD Ritual Contest - Gilroy
DESCRIPTION:
URL:https://cheawcd.org/newsite/index.php/event/wcd-ritual-contest-gilroy/
END:VEVENT
BEGIN:VEVENT
DTSTART;VALUE=DATE:20180421
DTEND;VALUE=DATE:20180422
DTSTAMP:20260421T184443
CREATED:20180217T015152Z
LAST-MODIFIED:20180217T015152Z
UID:121-1524268800-1524355199@cheawcd.org
SUMMARY:Ed Lane Golf - Moffet Field
DESCRIPTION:
URL:https://cheawcd.org/newsite/index.php/event/ed-lane-golf-moffet-field/
END:VEVENT
BEGIN:VEVENT
DTSTART;TZID=UTC:20180414T090000
DTEND;TZID=UTC:20180414T120000
DTSTAMP:20260421T184443
CREATED:20171109T084007Z
LAST-MODIFIED:20171109T084007Z
UID:76-1523696400-1523707200@cheawcd.org
SUMMARY:DD Clinic - Sunnyvale
DESCRIPTION:
URL:https://cheawcd.org/newsite/index.php/event/dd-clinic-sunnyvale/
END:VEVENT
BEGIN:VEVENT
DTSTART;VALUE=DATE:20180408
DTEND;VALUE=DATE:20180409
DTSTAMP:20260421T184443
CREATED:20180217T014815Z
LAST-MODIFIED:20180217T014815Z
UID:117-1523145600-1523231999@cheawcd.org
SUMMARY:Get Together with Randy in Watsonville
DESCRIPTION:
URL:https://cheawcd.org/newsite/index.php/event/get-together-with-randy-in-watsonville/
END:VEVENT
BEGIN:VEVENT
DTSTART;TZID=UTC:20180407T160000
DTEND;TZID=UTC:20180407T180000
DTSTAMP:20260421T184443
CREATED:20171109T013540Z
LAST-MODIFIED:20171109T013540Z
UID:55-1523116800-1523124000@cheawcd.org
SUMMARY:San Jose Installation
DESCRIPTION:
URL:https://cheawcd.org/newsite/index.php/event/san-jose-installation/
END:VEVENT
BEGIN:VEVENT
DTSTART;TZID=UTC:20180407T100000
DTEND;TZID=UTC:20180407T120000
DTSTAMP:20260421T184443
CREATED:20171109T012931Z
LAST-MODIFIED:20171109T012931Z
UID:42-1523095200-1523102400@cheawcd.org
SUMMARY:Sunnyvale Installation
DESCRIPTION:
URL:https://cheawcd.org/newsite/index.php/event/sunnyvale-installation/
END:VEVENT
BEGIN:VEVENT
DTSTART;VALUE=DATE:20180404
DTEND;VALUE=DATE:20180405
DTSTAMP:20260421T184443
CREATED:20180217T015114Z
LAST-MODIFIED:20180217T015114Z
UID:119-1522800000-1522886399@cheawcd.org
SUMMARY:Ed Lane Golf - Ridgemark
DESCRIPTION:
URL:https://cheawcd.org/newsite/index.php/event/ed-lane-golf-ridgemark/
END:VEVENT
BEGIN:VEVENT
DTSTART;TZID=UTC:20180331T180000
DTEND;TZID=UTC:20180331T200000
DTSTAMP:20260421T184443
CREATED:20171109T013609Z
LAST-MODIFIED:20171217T060942Z
UID:57-1522519200-1522526400@cheawcd.org
SUMMARY:Santa Clara Installation
DESCRIPTION:
URL:https://cheawcd.org/newsite/index.php/event/santa-clara-installation/
END:VEVENT
END:VCALENDAR