
BEGIN:VCALENDAR
VERSION:2.0
PRODID:-//CHEA West Central District - ECPv6.2.0//NONSGML v1.0//EN
CALSCALE:GREGORIAN
METHOD:PUBLISH
X-ORIGINAL-URL:https://cheawcd.org/newsite
X-WR-CALDESC:Events for CHEA West Central District
REFRESH-INTERVAL;VALUE=DURATION:PT1H
X-Robots-Tag:noindex
X-PUBLISHED-TTL:PT1H
BEGIN:VTIMEZONE
TZID:UTC
BEGIN:STANDARD
TZOFFSETFROM:+0000
TZOFFSETTO:+0000
TZNAME:UTC
DTSTART:20170101T000000
END:STANDARD
END:VTIMEZONE
BEGIN:VEVENT
DTSTART;TZID=UTC:20180331T100000
DTEND;TZID=UTC:20180331T120000
DTSTAMP:20260421T234917
CREATED:20171109T013223Z
LAST-MODIFIED:20171109T013223Z
UID:47-1522490400-1522497600@cheawcd.org
SUMMARY:Hollister Installation
DESCRIPTION:
URL:https://cheawcd.org/newsite/index.php/event/hollister-installation/
END:VEVENT
BEGIN:VEVENT
DTSTART;TZID=UTC:20180325T170000
DTEND;TZID=UTC:20180325T190000
DTSTAMP:20260421T234917
CREATED:20171109T013512Z
LAST-MODIFIED:20171217T060854Z
UID:53-1521997200-1522004400@cheawcd.org
SUMMARY:Salinas Installation
DESCRIPTION:
URL:https://cheawcd.org/newsite/index.php/event/salinas-installation/
END:VEVENT
BEGIN:VEVENT
DTSTART;TZID=UTC:20180325T100000
DTEND;TZID=UTC:20180325T120000
DTSTAMP:20260421T234917
CREATED:20171109T013403Z
LAST-MODIFIED:20171109T013403Z
UID:49-1521972000-1521979200@cheawcd.org
SUMMARY:Monterey Installation
DESCRIPTION:
URL:https://cheawcd.org/newsite/index.php/event/monterey-installation/
END:VEVENT
BEGIN:VEVENT
DTSTART;TZID=UTC:20180324T160000
DTEND;TZID=UTC:20180324T180000
DTSTAMP:20260421T234917
CREATED:20171109T013635Z
LAST-MODIFIED:20171109T013635Z
UID:59-1521907200-1521914400@cheawcd.org
SUMMARY:Santa Cruz Installation
DESCRIPTION:
URL:https://cheawcd.org/newsite/index.php/event/santa-cruz-installation/
END:VEVENT
BEGIN:VEVENT
DTSTART;TZID=UTC:20180324T110000
DTEND;TZID=UTC:20180324T130000
DTSTAMP:20260421T234917
CREATED:20171109T083543Z
LAST-MODIFIED:20171109T083731Z
UID:72-1521889200-1521896400@cheawcd.org
SUMMARY:Watsonville Installation
DESCRIPTION:
URL:https://cheawcd.org/newsite/index.php/event/watsonville-installation/
END:VEVENT
BEGIN:VEVENT
DTSTART;TZID=UTC:20180318T110000
DTEND;TZID=UTC:20180318T130000
DTSTAMP:20260421T234917
CREATED:20171109T013120Z
LAST-MODIFIED:20171217T060823Z
UID:45-1521370800-1521378000@cheawcd.org
SUMMARY:Gilroy Installation
DESCRIPTION:
URL:https://cheawcd.org/newsite/index.php/event/gilroy-installation/
END:VEVENT
BEGIN:VEVENT
DTSTART;TZID=UTC:20180317T180000
DTEND;TZID=UTC:20180317T200000
DTSTAMP:20260421T234917
CREATED:20171109T013440Z
LAST-MODIFIED:20171109T013440Z
UID:51-1521309600-1521316800@cheawcd.org
SUMMARY:Palo Alto Installation
DESCRIPTION:
URL:https://cheawcd.org/newsite/index.php/event/palo-alto-installation/
END:VEVENT
BEGIN:VEVENT
DTSTART;TZID=UTC:20180217T090000
DTEND;TZID=UTC:20180217T170000
DTSTAMP:20260421T234917
CREATED:20171109T084309Z
LAST-MODIFIED:20171109T084309Z
UID:82-1518858000-1518886800@cheawcd.org
SUMMARY:WCD - Ritual Clinic
DESCRIPTION:
URL:https://cheawcd.org/newsite/index.php/event/wcd-ritual-clinic/
END:VEVENT
BEGIN:VEVENT
DTSTART;TZID=UTC:20180120T090000
DTEND;TZID=UTC:20180120T120000
DTSTAMP:20260421T234917
CREATED:20171109T083936Z
LAST-MODIFIED:20171109T083936Z
UID:74-1516438800-1516449600@cheawcd.org
SUMMARY:DD Clinic - Hollister
DESCRIPTION:
URL:https://cheawcd.org/newsite/index.php/event/dd-clinic-hollister/
END:VEVENT
BEGIN:VEVENT
DTSTART;VALUE=DATE:20180113
DTEND;VALUE=DATE:20180114
DTSTAMP:20260421T234917
CREATED:20171109T084233Z
LAST-MODIFIED:20171109T084233Z
UID:80-1515801600-1515887999@cheawcd.org
SUMMARY:WCD Hoop Shoot - Sunnyvale
DESCRIPTION:
URL:https://cheawcd.org/newsite/index.php/event/wcd-hoop-shoot-sunnyvale/
END:VEVENT
BEGIN:VEVENT
DTSTART;TZID=UTC:20171130T080000
DTEND;TZID=UTC:20171130T170000
DTSTAMP:20260421T234917
CREATED:20171128T042018Z
LAST-MODIFIED:20171128T042018Z
UID:87-1512028800-1512061200@cheawcd.org
SUMMARY:test event
DESCRIPTION:
URL:https://cheawcd.org/newsite/index.php/event/test-event/
END:VEVENT
END:VCALENDAR