
BEGIN:VCALENDAR
VERSION:2.0
PRODID:-//CHEA West Central District - ECPv6.2.0//NONSGML v1.0//EN
CALSCALE:GREGORIAN
METHOD:PUBLISH
X-WR-CALNAME:CHEA West Central District
X-ORIGINAL-URL:https://cheawcd.org/newsite
X-WR-CALDESC:Events for CHEA West Central District
REFRESH-INTERVAL;VALUE=DURATION:PT1H
X-Robots-Tag:noindex
X-PUBLISHED-TTL:PT1H
BEGIN:VTIMEZONE
TZID:America/Denver
BEGIN:DAYLIGHT
TZOFFSETFROM:-0700
TZOFFSETTO:-0600
TZNAME:MDT
DTSTART:20260308T090000
END:DAYLIGHT
BEGIN:STANDARD
TZOFFSETFROM:-0600
TZOFFSETTO:-0700
TZNAME:MST
DTSTART:20261101T080000
END:STANDARD
END:VTIMEZONE
BEGIN:VEVENT
DTSTART;TZID=America/Denver:20260118T090000
DTEND;TZID=America/Denver:20260118T120000
DTSTAMP:20260421T150147
CREATED:20260105T232722Z
LAST-MODIFIED:20260105T232722Z
UID:1483-1768726800-1768737600@cheawcd.org
SUMMARY:Tri-District Ritual Qualification Clinic – Santa Cruz
DESCRIPTION:
URL:https://cheawcd.org/newsite/index.php/event/tri-district-ritual-qualification-clinic-santa-cruz/
END:VEVENT
BEGIN:VEVENT
DTSTART;TZID=America/Denver:20260124T090000
DTEND;TZID=America/Denver:20260124T120000
DTSTAMP:20260421T150147
CREATED:20260105T232723Z
LAST-MODIFIED:20260105T232723Z
UID:1484-1769245200-1769256000@cheawcd.org
SUMMARY:District Hoop Shoot – Santa Clara
DESCRIPTION:
URL:https://cheawcd.org/newsite/index.php/event/district-hoop-shoot-santa-clara/
END:VEVENT
BEGIN:VEVENT
DTSTART;VALUE=DATE:20260214
DTEND;VALUE=DATE:20260220
DTSTAMP:20260421T150147
CREATED:20250611T191020Z
LAST-MODIFIED:20250611T191045Z
UID:1426-1771027200-1771545599@cheawcd.org
SUMMARY:Fundraising Cruise for First AVP Lynn Glick
DESCRIPTION:Flyer for Lynn Glick _ Cruise
URL:https://cheawcd.org/newsite/index.php/event/fundraising-cruise-for-first-avp-lynn-glick/
END:VEVENT
BEGIN:VEVENT
DTSTART;TZID=America/Denver:20260228T090000
DTEND;TZID=America/Denver:20260228T120000
DTSTAMP:20260421T150147
CREATED:20260105T232723Z
LAST-MODIFIED:20260224T203540Z
UID:1485-1772269200-1772280000@cheawcd.org
SUMMARY:Ritual Clinic – Palo Alto
DESCRIPTION:
URL:https://cheawcd.org/newsite/index.php/event/ritual-clinic-watsonville/
END:VEVENT
BEGIN:VEVENT
DTSTART;TZID=America/Denver:20260312T000000
DTEND;TZID=America/Denver:20260314T000000
DTSTAMP:20260421T150147
CREATED:20260105T232724Z
LAST-MODIFIED:20260105T232724Z
UID:1486-1773273600-1773446400@cheawcd.org
SUMMARY:State President Homecoming – Costa Mesa
DESCRIPTION:
URL:https://cheawcd.org/newsite/index.php/event/state-president-homecoming-costa-mesa/
END:VEVENT
BEGIN:VEVENT
DTSTART;TZID=America/Denver:20260321T170000
DTEND;TZID=America/Denver:20260321T220000
DTSTAMP:20260421T150147
CREATED:20260224T203401Z
LAST-MODIFIED:20260224T203401Z
UID:1528-1774112400-1774130400@cheawcd.org
SUMMARY:Installation of Officers -- Hollister
DESCRIPTION:
URL:https://cheawcd.org/newsite/index.php/event/installation-of-officers-hollister-3/
END:VEVENT
BEGIN:VEVENT
DTSTART;TZID=America/Denver:20260328T100000
DTEND;TZID=America/Denver:20260328T140000
DTSTAMP:20260421T150147
CREATED:20260222T194149Z
LAST-MODIFIED:20260222T194149Z
UID:1526-1774692000-1774706400@cheawcd.org
SUMMARY:Installation of Officers -- Santa Cruz
DESCRIPTION:
URL:https://cheawcd.org/newsite/index.php/event/installation-of-officers-santa-cruz-3/
END:VEVENT
BEGIN:VEVENT
DTSTART;TZID=America/Denver:20260328T110000
DTEND;TZID=America/Denver:20260328T120000
DTSTAMP:20260421T150147
CREATED:20260310T201041Z
LAST-MODIFIED:20260310T201041Z
UID:1546-1774695600-1774699200@cheawcd.org
SUMMARY:Installation of Officers -- Watsonville at Santa Cruz
DESCRIPTION:
URL:https://cheawcd.org/newsite/index.php/event/installation-of-officers-watsonville-at-santa-cruz/
END:VEVENT
BEGIN:VEVENT
DTSTART;TZID=America/Denver:20260404T120000
DTEND;TZID=America/Denver:20260404T143000
DTSTAMP:20260421T150147
CREATED:20260228T202517Z
LAST-MODIFIED:20260317T225048Z
UID:1534-1775304000-1775313000@cheawcd.org
SUMMARY:Installation of Officers -- Sunnyvale
DESCRIPTION:
URL:https://cheawcd.org/newsite/index.php/event/installation-of-officers-sunnyvale-3/
END:VEVENT
BEGIN:VEVENT
DTSTART;TZID=America/Denver:20260404T143000
DTEND;TZID=America/Denver:20260404T160000
DTSTAMP:20260421T150147
CREATED:20260228T202552Z
LAST-MODIFIED:20260228T202552Z
UID:1536-1775313000-1775318400@cheawcd.org
SUMMARY:Installation of Officers -- Santa Clara
DESCRIPTION:
URL:https://cheawcd.org/newsite/index.php/event/installation-of-officers-santa-clara/
END:VEVENT
BEGIN:VEVENT
DTSTART;TZID=America/Denver:20260404T160000
DTEND;TZID=America/Denver:20260404T180000
DTSTAMP:20260421T150147
CREATED:20260222T192457Z
LAST-MODIFIED:20260222T192457Z
UID:1524-1775318400-1775325600@cheawcd.org
SUMMARY:Installation of Officers -- Palo Alto
DESCRIPTION:
URL:https://cheawcd.org/newsite/index.php/event/installation-of-officers-palo-alto-3/
END:VEVENT
BEGIN:VEVENT
DTSTART;TZID=America/Denver:20260411T103000
DTEND;TZID=America/Denver:20260411T140000
DTSTAMP:20260421T150147
CREATED:20260222T192421Z
LAST-MODIFIED:20260228T202831Z
UID:1522-1775903400-1775916000@cheawcd.org
SUMMARY:Installation of Officers -- San Jose
DESCRIPTION:
URL:https://cheawcd.org/newsite/index.php/event/installation-of-officers-san-jose-2/
END:VEVENT
BEGIN:VEVENT
DTSTART;TZID=America/Denver:20260411T160000
DTEND;TZID=America/Denver:20260411T180000
DTSTAMP:20260421T150147
CREATED:20260228T202347Z
LAST-MODIFIED:20260317T201735Z
UID:1532-1775923200-1775930400@cheawcd.org
SUMMARY:Installation of Officers -- Monterey
DESCRIPTION:
URL:https://cheawcd.org/newsite/index.php/event/installation-of-officers-monterey-2/
END:VEVENT
BEGIN:VEVENT
DTSTART;TZID=America/Denver:20260412T100000
DTEND;TZID=America/Denver:20260412T120000
DTSTAMP:20260421T150147
CREATED:20260228T202641Z
LAST-MODIFIED:20260317T225217Z
UID:1538-1775988000-1775995200@cheawcd.org
SUMMARY:Installation of Officers -- Salinas
DESCRIPTION:
URL:https://cheawcd.org/newsite/index.php/event/installation-of-officers-salinas-3/
END:VEVENT
BEGIN:VEVENT
DTSTART;TZID=America/Denver:20260412T150000
DTEND;TZID=America/Denver:20260412T180000
DTSTAMP:20260421T150147
CREATED:20260228T202712Z
LAST-MODIFIED:20260317T225238Z
UID:1540-1776006000-1776016800@cheawcd.org
SUMMARY:Installation of Officers -- Gilroy
DESCRIPTION:
URL:https://cheawcd.org/newsite/index.php/event/installation-of-officers-gilroy-3/
END:VEVENT
BEGIN:VEVENT
DTSTART;VALUE=DATE:20260418
DTEND;VALUE=DATE:20260419
DTSTAMP:20260421T150147
CREATED:20251101T162716Z
LAST-MODIFIED:20251101T162716Z
UID:1473-1776470400-1776556799@cheawcd.org
SUMMARY:National Hoop Shoot Championship - Chicago
DESCRIPTION:
URL:https://cheawcd.org/newsite/index.php/event/national-hoop-shoot-championship-chicago/
END:VEVENT
BEGIN:VEVENT
DTSTART;TZID=America/Denver:20260418T090000
DTEND;TZID=America/Denver:20260418T120000
DTSTAMP:20260421T150147
CREATED:20260105T232724Z
LAST-MODIFIED:20260105T232724Z
UID:1487-1776502800-1776513600@cheawcd.org
SUMMARY:DD Clinic – Santa Clara
DESCRIPTION:
URL:https://cheawcd.org/newsite/index.php/event/dd-clinic-santa-clara-2/
END:VEVENT
BEGIN:VEVENT
DTSTART;TZID=America/Denver:20260501T000000
DTEND;TZID=America/Denver:20260502T000000
DTSTAMP:20260421T150147
CREATED:20260105T232725Z
LAST-MODIFIED:20260219T230621Z
UID:1488-1777593600-1777680000@cheawcd.org
SUMMARY:Ritual Contest – Palo Alto
DESCRIPTION:
URL:https://cheawcd.org/newsite/index.php/event/ritual-contest-watsonville/
END:VEVENT
BEGIN:VEVENT
DTSTART;VALUE=DATE:20260513
DTEND;VALUE=DATE:20260517
DTSTAMP:20260421T150147
CREATED:20241029T170539Z
LAST-MODIFIED:20241029T170539Z
UID:1243-1778630400-1778975999@cheawcd.org
SUMMARY:CHEA Convention - Palm Springs
DESCRIPTION:
URL:https://cheawcd.org/newsite/index.php/event/chea-convention-palm-springs-2/
END:VEVENT
BEGIN:VEVENT
DTSTART;TZID=America/Denver:20260519T173000
DTEND;TZID=America/Denver:20260519T200000
DTSTAMP:20260421T150147
CREATED:20260421T194724Z
LAST-MODIFIED:20260421T195225Z
UID:1552-1779211800-1779220800@cheawcd.org
SUMMARY:AVP Visitation - Watsonville
DESCRIPTION:
URL:https://cheawcd.org/newsite/index.php/event/avp-visitation-watsonville/
END:VEVENT
BEGIN:VEVENT
DTSTART;TZID=America/Denver:20260520T173000
DTEND;TZID=America/Denver:20260520T200000
DTSTAMP:20260421T150147
CREATED:20260421T194800Z
LAST-MODIFIED:20260421T194800Z
UID:1554-1779298200-1779307200@cheawcd.org
SUMMARY:AVP Visitation - Gilroy
DESCRIPTION:
URL:https://cheawcd.org/newsite/index.php/event/avp-visitation-gilroy/
END:VEVENT
BEGIN:VEVENT
DTSTART;TZID=America/Denver:20260521T173000
DTEND;TZID=America/Denver:20260521T200000
DTSTAMP:20260421T150147
CREATED:20260421T194831Z
LAST-MODIFIED:20260421T194831Z
UID:1556-1779384600-1779393600@cheawcd.org
SUMMARY:AVP Visitation - Santa Cruz
DESCRIPTION:
URL:https://cheawcd.org/newsite/index.php/event/avp-visitation-santa-cruz/
END:VEVENT
BEGIN:VEVENT
DTSTART;TZID=America/Denver:20260526T173000
DTEND;TZID=America/Denver:20260526T200000
DTSTAMP:20260421T150147
CREATED:20260421T194853Z
LAST-MODIFIED:20260421T194853Z
UID:1558-1779816600-1779825600@cheawcd.org
SUMMARY:AVP Visitation - Santa Clara
DESCRIPTION:
URL:https://cheawcd.org/newsite/index.php/event/avp-visitation-santa-clara/
END:VEVENT
BEGIN:VEVENT
DTSTART;TZID=America/Denver:20260527T000000
DTEND;TZID=America/Denver:20260531T000000
DTSTAMP:20260421T150147
CREATED:20260105T232726Z
LAST-MODIFIED:20260105T232726Z
UID:1489-1779840000-1780185600@cheawcd.org
SUMMARY:Santa Maria Elks Rodeo
DESCRIPTION:
URL:https://cheawcd.org/newsite/index.php/event/santa-maria-elks-rodeo-2/
END:VEVENT
BEGIN:VEVENT
DTSTART;TZID=America/Denver:20260528T173000
DTEND;TZID=America/Denver:20260528T200000
DTSTAMP:20260421T150147
CREATED:20260421T194914Z
LAST-MODIFIED:20260421T194914Z
UID:1560-1779989400-1779998400@cheawcd.org
SUMMARY:AVP Visitation - Palo Alto
DESCRIPTION:
URL:https://cheawcd.org/newsite/index.php/event/avp-visitation-palo-alto/
END:VEVENT
BEGIN:VEVENT
DTSTART;TZID=America/Denver:20260603T173000
DTEND;TZID=America/Denver:20260603T200000
DTSTAMP:20260421T150147
CREATED:20260421T194936Z
LAST-MODIFIED:20260421T194936Z
UID:1562-1780507800-1780516800@cheawcd.org
SUMMARY:AVP Visitation - Salinas
DESCRIPTION:
URL:https://cheawcd.org/newsite/index.php/event/avp-visitation-salinas/
END:VEVENT
BEGIN:VEVENT
DTSTART;TZID=America/Denver:20260609T173000
DTEND;TZID=America/Denver:20260609T200000
DTSTAMP:20260421T150147
CREATED:20260421T195002Z
LAST-MODIFIED:20260421T195002Z
UID:1564-1781026200-1781035200@cheawcd.org
SUMMARY:AVP Visitation - Hollister
DESCRIPTION:
URL:https://cheawcd.org/newsite/index.php/event/avp-visitation-hollister/
END:VEVENT
BEGIN:VEVENT
DTSTART;TZID=America/Denver:20260610T173000
DTEND;TZID=America/Denver:20260610T200000
DTSTAMP:20260421T150147
CREATED:20260421T195023Z
LAST-MODIFIED:20260421T195023Z
UID:1566-1781112600-1781121600@cheawcd.org
SUMMARY:AVP Visitation - Monterey
DESCRIPTION:
URL:https://cheawcd.org/newsite/index.php/event/avp-visitation-monterey/
END:VEVENT
BEGIN:VEVENT
DTSTART;TZID=America/Denver:20260611T173000
DTEND;TZID=America/Denver:20260611T200000
DTSTAMP:20260421T150147
CREATED:20260421T195044Z
LAST-MODIFIED:20260421T195044Z
UID:1568-1781199000-1781208000@cheawcd.org
SUMMARY:AVP Visitation - San Jose
DESCRIPTION:
URL:https://cheawcd.org/newsite/index.php/event/avp-visitation-san-jose/
END:VEVENT
BEGIN:VEVENT
DTSTART;TZID=America/Denver:20260617T173000
DTEND;TZID=America/Denver:20260617T200000
DTSTAMP:20260421T150147
CREATED:20260421T195114Z
LAST-MODIFIED:20260421T195114Z
UID:1570-1781717400-1781726400@cheawcd.org
SUMMARY:AVP Visitation - Sunnyvale
DESCRIPTION:
URL:https://cheawcd.org/newsite/index.php/event/avp-visitation-sunnyvale/
END:VEVENT
END:VCALENDAR