
BEGIN:VCALENDAR
VERSION:2.0
PRODID:-//CHEA West Central District - ECPv6.2.0//NONSGML v1.0//EN
CALSCALE:GREGORIAN
METHOD:PUBLISH
X-WR-CALNAME:CHEA West Central District
X-ORIGINAL-URL:https://cheawcd.org/newsite
X-WR-CALDESC:Events for CHEA West Central District
REFRESH-INTERVAL;VALUE=DURATION:PT1H
X-Robots-Tag:noindex
X-PUBLISHED-TTL:PT1H
BEGIN:VTIMEZONE
TZID:America/Denver
BEGIN:DAYLIGHT
TZOFFSETFROM:-0700
TZOFFSETTO:-0600
TZNAME:MDT
DTSTART:20210314T090000
END:DAYLIGHT
BEGIN:STANDARD
TZOFFSETFROM:-0600
TZOFFSETTO:-0700
TZNAME:MST
DTSTART:20211107T080000
END:STANDARD
END:VTIMEZONE
BEGIN:VEVENT
DTSTART;TZID=America/Denver:20210602T173000
DTEND;TZID=America/Denver:20210602T190000
DTSTAMP:20260423T034713
CREATED:20210403T195604Z
LAST-MODIFIED:20210403T195604Z
UID:615-1622655000-1622660400@cheawcd.org
SUMMARY:AVP Visit - Santa Clara
DESCRIPTION:
URL:https://cheawcd.org/newsite/index.php/event/avp-visit-santa-clara/
END:VEVENT
BEGIN:VEVENT
DTSTART;TZID=America/Denver:20210603T173000
DTEND;TZID=America/Denver:20210603T190000
DTSTAMP:20260423T034713
CREATED:20210403T195626Z
LAST-MODIFIED:20210403T195626Z
UID:617-1622741400-1622746800@cheawcd.org
SUMMARY:AVP Visit - Palo Alto
DESCRIPTION:
URL:https://cheawcd.org/newsite/index.php/event/avp-visit-palo-alto/
END:VEVENT
BEGIN:VEVENT
DTSTART;TZID=America/Denver:20210608T173000
DTEND;TZID=America/Denver:20210608T190000
DTSTAMP:20260423T034713
CREATED:20210403T195647Z
LAST-MODIFIED:20210403T195647Z
UID:619-1623173400-1623178800@cheawcd.org
SUMMARY:AVP Visit - Hollister
DESCRIPTION:
URL:https://cheawcd.org/newsite/index.php/event/avp-visit-hollister/
END:VEVENT
BEGIN:VEVENT
DTSTART;TZID=America/Denver:20210609T173000
DTEND;TZID=America/Denver:20210609T190000
DTSTAMP:20260423T034713
CREATED:20210403T195710Z
LAST-MODIFIED:20210403T195710Z
UID:621-1623259800-1623265200@cheawcd.org
SUMMARY:AVP Visit - Watsonville
DESCRIPTION:
URL:https://cheawcd.org/newsite/index.php/event/avp-visit-watsonville/
END:VEVENT
BEGIN:VEVENT
DTSTART;TZID=America/Denver:20210613T120000
DTEND;TZID=America/Denver:20210613T170000
DTSTAMP:20260423T034713
CREATED:20210510T185441Z
LAST-MODIFIED:20210510T190121Z
UID:674-1623585600-1623603600@cheawcd.org
SUMMARY:District PER Picnic @ Santa Clara Lodge
DESCRIPTION:
URL:https://cheawcd.org/newsite/index.php/event/district-per-picnic/
END:VEVENT
BEGIN:VEVENT
DTSTART;TZID=America/Denver:20210616T173000
DTEND;TZID=America/Denver:20210616T190000
DTSTAMP:20260423T034713
CREATED:20210403T195732Z
LAST-MODIFIED:20210403T195732Z
UID:623-1623864600-1623870000@cheawcd.org
SUMMARY:AVP Visit - Sunnyvale
DESCRIPTION:
URL:https://cheawcd.org/newsite/index.php/event/avp-visit-sunnyvale/
END:VEVENT
BEGIN:VEVENT
DTSTART;TZID=America/Denver:20210617T173000
DTEND;TZID=America/Denver:20210617T190000
DTSTAMP:20260423T034713
CREATED:20210403T195752Z
LAST-MODIFIED:20210403T195752Z
UID:625-1623951000-1623956400@cheawcd.org
SUMMARY:AVP Visit - San Jose
DESCRIPTION:
URL:https://cheawcd.org/newsite/index.php/event/avp-visit-san-jose/
END:VEVENT
BEGIN:VEVENT
DTSTART;TZID=America/Denver:20210623T173000
DTEND;TZID=America/Denver:20210623T190000
DTSTAMP:20260423T034713
CREATED:20210403T195815Z
LAST-MODIFIED:20210403T195815Z
UID:627-1624469400-1624474800@cheawcd.org
SUMMARY:AVP Visit - Monterey
DESCRIPTION:
URL:https://cheawcd.org/newsite/index.php/event/avp-visit-monterey/
END:VEVENT
BEGIN:VEVENT
DTSTART;TZID=America/Denver:20210630T173000
DTEND;TZID=America/Denver:20210630T190000
DTSTAMP:20260423T034713
CREATED:20210403T195834Z
LAST-MODIFIED:20210403T195834Z
UID:629-1625074200-1625079600@cheawcd.org
SUMMARY:AVP Visit - Gilroy
DESCRIPTION:
URL:https://cheawcd.org/newsite/index.php/event/avp-visit-gilroy/
END:VEVENT
END:VCALENDAR