
BEGIN:VCALENDAR
VERSION:2.0
PRODID:-//CHEA West Central District - ECPv6.2.0//NONSGML v1.0//EN
CALSCALE:GREGORIAN
METHOD:PUBLISH
X-ORIGINAL-URL:https://cheawcd.org/newsite
X-WR-CALDESC:Events for CHEA West Central District
REFRESH-INTERVAL;VALUE=DURATION:PT1H
X-Robots-Tag:noindex
X-PUBLISHED-TTL:PT1H
BEGIN:VTIMEZONE
TZID:America/Denver
BEGIN:DAYLIGHT
TZOFFSETFROM:-0700
TZOFFSETTO:-0600
TZNAME:MDT
DTSTART:20210314T090000
END:DAYLIGHT
BEGIN:STANDARD
TZOFFSETFROM:-0600
TZOFFSETTO:-0700
TZNAME:MST
DTSTART:20211107T080000
END:STANDARD
END:VTIMEZONE
BEGIN:VEVENT
DTSTART;TZID=America/Denver:20211006T170000
DTEND;TZID=America/Denver:20211006T200000
DTSTAMP:20260422T213913
CREATED:20210509T225946Z
LAST-MODIFIED:20210509T225946Z
UID:666-1633539600-1633550400@cheawcd.org
SUMMARY:DD Visit - Sunnyvale
DESCRIPTION:
URL:https://cheawcd.org/newsite/index.php/event/dd-visit-sunnyvale-4/
END:VEVENT
BEGIN:VEVENT
DTSTART;TZID=America/Denver:20211013T170000
DTEND;TZID=America/Denver:20211013T200000
DTSTAMP:20260422T213913
CREATED:20210509T230012Z
LAST-MODIFIED:20210509T230012Z
UID:668-1634144400-1634155200@cheawcd.org
SUMMARY:DD Visit - Watsonville
DESCRIPTION:
URL:https://cheawcd.org/newsite/index.php/event/dd-visit-watsonville-2/
END:VEVENT
BEGIN:VEVENT
DTSTART;TZID=America/Denver:20211016T090000
DTEND;TZID=America/Denver:20211016T120000
DTSTAMP:20260422T213913
CREATED:20211005T191216Z
LAST-MODIFIED:20211005T191216Z
UID:723-1634374800-1634385600@cheawcd.org
SUMMARY:DD Clinic - Santa Cruz
DESCRIPTION:Required: Esteemed Leading Knight\, Loyal Knight and Trustees
URL:https://cheawcd.org/newsite/index.php/event/dd-clinic-santa-cruz-3/
END:VEVENT
BEGIN:VEVENT
DTSTART;TZID=America/Denver:20211023T170000
DTEND;TZID=America/Denver:20211023T200000
DTSTAMP:20260422T213913
CREATED:20210509T230053Z
LAST-MODIFIED:20210509T230053Z
UID:670-1635008400-1635019200@cheawcd.org
SUMMARY:DD Homecoming (Hollister)
DESCRIPTION:
URL:https://cheawcd.org/newsite/index.php/event/dd-homecoming-hollister-3/
END:VEVENT
BEGIN:VEVENT
DTSTART;TZID=America/Denver:20211030T170000
DTEND;TZID=America/Denver:20211030T230000
DTSTAMP:20260422T213913
CREATED:20210823T235204Z
LAST-MODIFIED:20210823T235204Z
UID:708-1635613200-1635634800@cheawcd.org
SUMMARY:Salinas Lodge: Airshow After Party
DESCRIPTION:
URL:https://cheawcd.org/newsite/index.php/event/salinas-lodge-airshow-after-party/
END:VEVENT
END:VCALENDAR