
BEGIN:VCALENDAR
VERSION:2.0
PRODID:-//CHEA West Central District - ECPv6.2.0//NONSGML v1.0//EN
CALSCALE:GREGORIAN
METHOD:PUBLISH
X-WR-CALNAME:CHEA West Central District
X-ORIGINAL-URL:https://cheawcd.org/newsite
X-WR-CALDESC:Events for CHEA West Central District
REFRESH-INTERVAL;VALUE=DURATION:PT1H
X-Robots-Tag:noindex
X-PUBLISHED-TTL:PT1H
BEGIN:VTIMEZONE
TZID:America/Denver
BEGIN:DAYLIGHT
TZOFFSETFROM:-0700
TZOFFSETTO:-0600
TZNAME:MDT
DTSTART:20220313T090000
END:DAYLIGHT
BEGIN:STANDARD
TZOFFSETFROM:-0600
TZOFFSETTO:-0700
TZNAME:MST
DTSTART:20221106T080000
END:STANDARD
END:VTIMEZONE
BEGIN:VEVENT
DTSTART;TZID=America/Denver:20220115T080000
DTEND;TZID=America/Denver:20220115T170000
DTSTAMP:20260422T162547
CREATED:20210521T205547Z
LAST-MODIFIED:20211005T192427Z
UID:686-1642233600-1642266000@cheawcd.org
SUMMARY:WCD Caucus - Gilroy
DESCRIPTION:
URL:https://cheawcd.org/newsite/index.php/event/wcd-caucus-gilroy/
END:VEVENT
BEGIN:VEVENT
DTSTART;TZID=America/Denver:20220122T090000
DTEND;TZID=America/Denver:20220122T120000
DTSTAMP:20260422T162547
CREATED:20210521T205354Z
LAST-MODIFIED:20210521T205354Z
UID:681-1642842000-1642852800@cheawcd.org
SUMMARY:DD Clinic -- Sunnyvale
DESCRIPTION:
URL:https://cheawcd.org/newsite/index.php/event/dd-clinic-sunnyvale-2/
END:VEVENT
BEGIN:VEVENT
DTSTART;TZID=America/Denver:20220129T080000
DTEND;TZID=America/Denver:20220129T120000
DTSTAMP:20260422T162547
CREATED:20210521T205609Z
LAST-MODIFIED:20220111T195512Z
UID:688-1643443200-1643457600@cheawcd.org
SUMMARY:WCD Hoop Shoot
DESCRIPTION:
URL:https://cheawcd.org/newsite/index.php/event/wcd-hoop-shoot/
END:VEVENT
BEGIN:VEVENT
DTSTART;TZID=America/Denver:20220129T080000
DTEND;TZID=America/Denver:20220129T170000
DTSTAMP:20260422T162547
CREATED:20220125T193807Z
LAST-MODIFIED:20220125T193807Z
UID:754-1643443200-1643475600@cheawcd.org
SUMMARY:State Ritual Judging Clinic @ Santa Clara
DESCRIPTION:
URL:https://cheawcd.org/newsite/index.php/event/state-ritual-judging-clinic-santa-clara-2/
END:VEVENT
END:VCALENDAR