
BEGIN:VCALENDAR
VERSION:2.0
PRODID:-//CHEA West Central District - ECPv6.2.0//NONSGML v1.0//EN
CALSCALE:GREGORIAN
METHOD:PUBLISH
X-WR-CALNAME:CHEA West Central District
X-ORIGINAL-URL:https://cheawcd.org/newsite
X-WR-CALDESC:Events for CHEA West Central District
REFRESH-INTERVAL;VALUE=DURATION:PT1H
X-Robots-Tag:noindex
X-PUBLISHED-TTL:PT1H
BEGIN:VTIMEZONE
TZID:America/Denver
BEGIN:DAYLIGHT
TZOFFSETFROM:-0700
TZOFFSETTO:-0600
TZNAME:MDT
DTSTART:20240310T090000
END:DAYLIGHT
BEGIN:STANDARD
TZOFFSETFROM:-0600
TZOFFSETTO:-0700
TZNAME:MST
DTSTART:20241103T080000
END:STANDARD
END:VTIMEZONE
BEGIN:VEVENT
DTSTART;TZID=America/Denver:20240406T110000
DTEND;TZID=America/Denver:20240406T130000
DTSTAMP:20260420T191448
CREATED:20240213T214057Z
LAST-MODIFIED:20240309T221816Z
UID:1126-1712401200-1712408400@cheawcd.org
SUMMARY:Installation of Officers: San Jose @ Sunnyvale
DESCRIPTION:
URL:https://cheawcd.org/newsite/index.php/event/installation-of-officers-san-jose/
END:VEVENT
BEGIN:VEVENT
DTSTART;TZID=America/Denver:20240406T130000
DTEND;TZID=America/Denver:20240406T140000
DTSTAMP:20260420T191448
CREATED:20240213T214155Z
LAST-MODIFIED:20240309T221748Z
UID:1130-1712408400-1712412000@cheawcd.org
SUMMARY:Installation of Officers: Santa Clara at Sunnyvale Lodge
DESCRIPTION:
URL:https://cheawcd.org/newsite/index.php/event/installation-of-officers-santa-clara-at-sunnyvale-lodge/
END:VEVENT
BEGIN:VEVENT
DTSTART;TZID=America/Denver:20240406T140000
DTEND;TZID=America/Denver:20240406T200000
DTSTAMP:20260420T191448
CREATED:20240213T214219Z
LAST-MODIFIED:20240309T221614Z
UID:1132-1712412000-1712433600@cheawcd.org
SUMMARY:Installation of Officers: Sunnyvale
DESCRIPTION:
URL:https://cheawcd.org/newsite/index.php/event/installation-of-officers-sunnyvale-2/
END:VEVENT
BEGIN:VEVENT
DTSTART;TZID=America/Denver:20240406T170000
DTEND;TZID=America/Denver:20240406T200000
DTSTAMP:20260420T191448
CREATED:20240213T214122Z
LAST-MODIFIED:20240213T214122Z
UID:1128-1712422800-1712433600@cheawcd.org
SUMMARY:Installation of Officers: Palo Alto
DESCRIPTION:
URL:https://cheawcd.org/newsite/index.php/event/installation-of-officers-palo-alto-2/
END:VEVENT
BEGIN:VEVENT
DTSTART;TZID=America/Denver:20240420T090000
DTEND;TZID=America/Denver:20240420T120000
DTSTAMP:20260420T191448
CREATED:20230220T213636Z
LAST-MODIFIED:20230220T213636Z
UID:1037-1713603600-1713614400@cheawcd.org
SUMMARY:DD Clinic - Sunnyvale
DESCRIPTION:
URL:https://cheawcd.org/newsite/index.php/event/dd-clinic-sunnyvale-3/
END:VEVENT
END:VCALENDAR