
BEGIN:VCALENDAR
VERSION:2.0
PRODID:-//CHEA West Central District - ECPv6.2.0//NONSGML v1.0//EN
CALSCALE:GREGORIAN
METHOD:PUBLISH
X-WR-CALNAME:CHEA West Central District
X-ORIGINAL-URL:https://cheawcd.org/newsite
X-WR-CALDESC:Events for CHEA West Central District
REFRESH-INTERVAL;VALUE=DURATION:PT1H
X-Robots-Tag:noindex
X-PUBLISHED-TTL:PT1H
BEGIN:VTIMEZONE
TZID:America/Denver
BEGIN:DAYLIGHT
TZOFFSETFROM:-0700
TZOFFSETTO:-0600
TZNAME:MDT
DTSTART:20240310T090000
END:DAYLIGHT
BEGIN:STANDARD
TZOFFSETFROM:-0600
TZOFFSETTO:-0700
TZNAME:MST
DTSTART:20241103T080000
END:STANDARD
END:VTIMEZONE
BEGIN:VEVENT
DTSTART;VALUE=DATE:20240530
DTEND;VALUE=DATE:20240603
DTSTAMP:20260420T154653
CREATED:20240114T203125Z
LAST-MODIFIED:20240114T203125Z
UID:1102-1717027200-1717372799@cheawcd.org
SUMMARY:Santa Maria Elks Rodeo
DESCRIPTION:
URL:https://cheawcd.org/newsite/index.php/event/santa-maria-elks-rodeo/
END:VEVENT
BEGIN:VEVENT
DTSTART;TZID=America/Denver:20240604T170000
DTEND;TZID=America/Denver:20240604T200000
DTSTAMP:20260420T154653
CREATED:20240221T210029Z
LAST-MODIFIED:20240221T210029Z
UID:1143-1717520400-1717531200@cheawcd.org
SUMMARY:VP Visitation - Watsonville
DESCRIPTION:
URL:https://cheawcd.org/newsite/index.php/event/vp-visitation-watsonville/
END:VEVENT
BEGIN:VEVENT
DTSTART;TZID=America/Denver:20240605T170000
DTEND;TZID=America/Denver:20240605T200000
DTSTAMP:20260420T154653
CREATED:20240221T210056Z
LAST-MODIFIED:20240221T210056Z
UID:1145-1717606800-1717617600@cheawcd.org
SUMMARY:VP Visitation - Sunnyvale
DESCRIPTION:
URL:https://cheawcd.org/newsite/index.php/event/vp-visitation-sunnyvale/
END:VEVENT
BEGIN:VEVENT
DTSTART;TZID=America/Denver:20240611T170000
DTEND;TZID=America/Denver:20240611T200000
DTSTAMP:20260420T154653
CREATED:20240221T210123Z
LAST-MODIFIED:20240221T210123Z
UID:1147-1718125200-1718136000@cheawcd.org
SUMMARY:VP Visitation - Hollister
DESCRIPTION:
URL:https://cheawcd.org/newsite/index.php/event/vp-visitation-hollister/
END:VEVENT
BEGIN:VEVENT
DTSTART;TZID=America/Denver:20240613T170000
DTEND;TZID=America/Denver:20240613T200000
DTSTAMP:20260420T154653
CREATED:20240221T210149Z
LAST-MODIFIED:20240221T210149Z
UID:1149-1718298000-1718308800@cheawcd.org
SUMMARY:VP Visitation - San Jose
DESCRIPTION:
URL:https://cheawcd.org/newsite/index.php/event/vp-visitation-san-jose/
END:VEVENT
BEGIN:VEVENT
DTSTART;TZID=America/Denver:20240619T170000
DTEND;TZID=America/Denver:20240619T200000
DTSTAMP:20260420T154653
CREATED:20240221T210241Z
LAST-MODIFIED:20240221T210241Z
UID:1153-1718816400-1718827200@cheawcd.org
SUMMARY:VP Visitation - Monterey
DESCRIPTION:
URL:https://cheawcd.org/newsite/index.php/event/vp-visitation-monterey/
END:VEVENT
BEGIN:VEVENT
DTSTART;TZID=America/Denver:20240625T170000
DTEND;TZID=America/Denver:20240625T200000
DTSTAMP:20260420T154653
CREATED:20240221T210215Z
LAST-MODIFIED:20240319T192217Z
UID:1151-1719334800-1719345600@cheawcd.org
SUMMARY:VP Visitation - Santa Clara @ Sunnyvale
DESCRIPTION:
URL:https://cheawcd.org/newsite/index.php/event/vp-visitation-santa-clara/
END:VEVENT
BEGIN:VEVENT
DTSTART;VALUE=DATE:20240630
DTEND;VALUE=DATE:20240704
DTSTAMP:20260420T154653
CREATED:20240114T203156Z
LAST-MODIFIED:20240114T203156Z
UID:1104-1719705600-1720051199@cheawcd.org
SUMMARY:Grand Lodge Convention in Austin\, TX
DESCRIPTION:
URL:https://cheawcd.org/newsite/index.php/event/grand-lodge-convention-in-austin-tx/
END:VEVENT
END:VCALENDAR