
BEGIN:VCALENDAR
VERSION:2.0
PRODID:-//CHEA West Central District - ECPv6.2.0//NONSGML v1.0//EN
CALSCALE:GREGORIAN
METHOD:PUBLISH
X-ORIGINAL-URL:https://cheawcd.org/newsite
X-WR-CALDESC:Events for CHEA West Central District
REFRESH-INTERVAL;VALUE=DURATION:PT1H
X-Robots-Tag:noindex
X-PUBLISHED-TTL:PT1H
BEGIN:VTIMEZONE
TZID:America/Denver
BEGIN:DAYLIGHT
TZOFFSETFROM:-0700
TZOFFSETTO:-0600
TZNAME:MDT
DTSTART:20240310T090000
END:DAYLIGHT
BEGIN:STANDARD
TZOFFSETFROM:-0600
TZOFFSETTO:-0700
TZNAME:MST
DTSTART:20241103T080000
END:STANDARD
END:VTIMEZONE
BEGIN:VEVENT
DTSTART;VALUE=DATE:20241101
DTEND;VALUE=DATE:20241104
DTSTAMP:20260420T080517
CREATED:20240114T203248Z
LAST-MODIFIED:20240221T211138Z
UID:1106-1730419200-1730678399@cheawcd.org
SUMMARY:Mid Term Conference in Burbank
DESCRIPTION:
URL:https://cheawcd.org/newsite/index.php/event/mid-term-conference-in-burbank/
END:VEVENT
BEGIN:VEVENT
DTSTART;VALUE=DATE:20241107
DTEND;VALUE=DATE:20241111
DTSTAMP:20260420T080517
CREATED:20240114T203329Z
LAST-MODIFIED:20240607T230042Z
UID:1108-1730937600-1731283199@cheawcd.org
SUMMARY:West Central District President's Visit
DESCRIPTION:
URL:https://cheawcd.org/newsite/index.php/event/west-central-district-presidents-visit/
END:VEVENT
BEGIN:VEVENT
DTSTART;TZID=America/Denver:20241114T170000
DTEND;TZID=America/Denver:20241114T200000
DTSTAMP:20260420T080517
CREATED:20240226T190620Z
LAST-MODIFIED:20240826T195936Z
UID:1159-1731603600-1731614400@cheawcd.org
SUMMARY:DD Visitation - Palo Alto
DESCRIPTION:
URL:https://cheawcd.org/newsite/index.php/event/dd-visitation-palo-alto/
END:VEVENT
BEGIN:VEVENT
DTSTART;TZID=America/Denver:20241120T170000
DTEND;TZID=America/Denver:20241120T200000
DTSTAMP:20260420T080517
CREATED:20240226T190932Z
LAST-MODIFIED:20240909T171957Z
UID:1173-1732122000-1732132800@cheawcd.org
SUMMARY:DD Visitation - Sunnyvale
DESCRIPTION:
URL:https://cheawcd.org/newsite/index.php/event/dd-visitation-sunnyvale-2/
END:VEVENT
END:VCALENDAR