
BEGIN:VCALENDAR
VERSION:2.0
PRODID:-//CHEA West Central District - ECPv6.2.0//NONSGML v1.0//EN
CALSCALE:GREGORIAN
METHOD:PUBLISH
X-ORIGINAL-URL:https://cheawcd.org/newsite
X-WR-CALDESC:Events for CHEA West Central District
REFRESH-INTERVAL;VALUE=DURATION:PT1H
X-Robots-Tag:noindex
X-PUBLISHED-TTL:PT1H
BEGIN:VTIMEZONE
TZID:America/Denver
BEGIN:DAYLIGHT
TZOFFSETFROM:-0700
TZOFFSETTO:-0600
TZNAME:MDT
DTSTART:20250309T090000
END:DAYLIGHT
BEGIN:STANDARD
TZOFFSETFROM:-0600
TZOFFSETTO:-0700
TZNAME:MST
DTSTART:20251102T080000
END:STANDARD
END:VTIMEZONE
BEGIN:VEVENT
DTSTART;TZID=America/Denver:20250104T090000
DTEND;TZID=America/Denver:20250104T110000
DTSTAMP:20260420T051058
CREATED:20240114T203406Z
LAST-MODIFIED:20241123T004330Z
UID:1110-1735981200-1735988400@cheawcd.org
SUMMARY:PDD Caucus @ Gilroy
DESCRIPTION:
URL:https://cheawcd.org/newsite/index.php/event/pdd-caucus-gilroy/
END:VEVENT
BEGIN:VEVENT
DTSTART;TZID=America/Denver:20250111T080000
DTEND;TZID=America/Denver:20250111T120000
DTSTAMP:20260420T051058
CREATED:20250104T222727Z
LAST-MODIFIED:20250106T200507Z
UID:1259-1736582400-1736596800@cheawcd.org
SUMMARY:District Hoop Shoot
DESCRIPTION:Location: YMCA 550 Bell St.\, East Palo Alto
URL:https://cheawcd.org/newsite/index.php/event/district-hoop-shoot/
END:VEVENT
BEGIN:VEVENT
DTSTART;TZID=America/Denver:20250111T170000
DTEND;TZID=America/Denver:20250111T190000
DTSTAMP:20260420T051058
CREATED:20240226T191032Z
LAST-MODIFIED:20241115T201910Z
UID:1177-1736614800-1736622000@cheawcd.org
SUMMARY:DD Homecoming - Watsonville
DESCRIPTION:
URL:https://cheawcd.org/newsite/index.php/event/dd-homecoming-watsonville/
END:VEVENT
BEGIN:VEVENT
DTSTART;TZID=America/Denver:20250118T090000
DTEND;TZID=America/Denver:20250118T120000
DTSTAMP:20260420T051058
CREATED:20240226T191232Z
LAST-MODIFIED:20240226T201827Z
UID:1183-1737190800-1737201600@cheawcd.org
SUMMARY:DD Clinic - Monterey
DESCRIPTION:
URL:https://cheawcd.org/newsite/index.php/event/dd-clinic-monterey-2/
END:VEVENT
BEGIN:VEVENT
DTSTART;TZID=America/Denver:20250119T090000
DTEND;TZID=America/Denver:20250119T170000
DTSTAMP:20260420T051058
CREATED:20250104T225407Z
LAST-MODIFIED:20250104T225407Z
UID:1261-1737277200-1737306000@cheawcd.org
SUMMARY:Ritual Qualification Clinic - Palo Alto
DESCRIPTION:
URL:https://cheawcd.org/newsite/index.php/event/ritual-qualification-clinic-palo-alto/
END:VEVENT
END:VCALENDAR